BEGIN:VCALENDAR
VERSION:2.0
PRODID:http://www.infomax-online.de/imxeventmanager/
METHOD:PUBLISH
BEGIN:VTIMEZONE
TZID:Europe/Berlin
TZURL:http://tzurl.org/zoneinfo-outlook/Europe/Berlin
X-LIC-LOCATION:Europe/Berlin
END:VTIMEZONE
BEGIN:VEVENT
UID:69e9ceb1174fa
LOCATION:Am Markt , 21335 Lüneburg
SUMMARY;ENCODING=QUOTED-PRINTABLE:Klassischer Rundgang
DESCRIPTION;ENCODING=QUOTED-PRINTABLE:Explore the salt and Hanseatic city of Lüneburg on a classic walking=0D=0Atour.=0D=0A=0D=0A Did you know that there are over 1,400 architectural monuments in the=0D=0Acity? Lüneburg's historical wealth has left its mark and continues to=0D=0Ashape the cityscape to this day. This tour shows you special sights=0D=0Aand gives you an overview of the history and development of the=0D=0AHanseatic city. Get to know the most important locations, such as the=0D=0Ahistoric town hall, the old harbor with its crane and the magnificent=0D=0A"Am Sande" square, and immerse yourself in the most beautiful corners=0D=0Aof Lüneburg!=0D=0A=0D=0A =0D=0A
URL;VALUE=URI:https://hamburgwhl.infomaxnet.de/standard_widget_en/en/e-klassischer-rundgang?eventDateId=30153164&widgetToken=22vcqFKw4GE.&
CLASS:PUBLIC
DTSTART:20260425T113000
DTSTAMP:20260423T094801
END:VEVENT
END:VCALENDAR