BEGIN:VCALENDAR
VERSION:2.0
PRODID:http://www.infomax-online.de/imxeventmanager/
METHOD:PUBLISH
BEGIN:VTIMEZONE
TZID:Europe/Berlin
TZURL:http://tzurl.org/zoneinfo-outlook/Europe/Berlin
X-LIC-LOCATION:Europe/Berlin
END:VTIMEZONE
BEGIN:VEVENT
UID:69ed9538e2362
LOCATION:Am Packhof 8, 19053 Schwerin
SUMMARY;ENCODING=QUOTED-PRINTABLE:Festive brass concert - Jubilate!
DESCRIPTION;ENCODING=QUOTED-PRINTABLE:for brass and organ=0D=0A=0D=0AOn Sunday Jubilate, the trombone choir of the Friedensgemeinde and its=0D=0Abrass friends traditionally welcome the people of Schwerin and their=0D=0Aguests to spring. A colorful musical bouquet of different eras will=0D=0Afill the neo-Gothic church interior. Songs to sing along to complete=0D=0Athe musical hour. The choir will perform under the direction of Jan=0D=0ABirkner. Benjamin Gruchow will be playing the historic Friese organ.=0D=0A=0D=0A =0D=0A=0D=0ATrombone choir of the Friedensgemeinde=0D=0A=0D=0ABenjamin Gruchow, organ=0D=0A=0D=0ACornelia Wossidlo, moderation=0D=0A=0D=0AJan Birkner, conductor=0D=0A=0D=0A =0D=0A=0D=0AAdmission free - collection requested=0D=0A
URL;VALUE=URI:https://hamburgwhl.infomaxnet.de/standard_widget_en/en/e-festive-brass-concert-jubilate?eventDateId=30151910&widgetToken=22vcqFKw4GE.&
CLASS:PUBLIC
DTSTART:20260426T170000
DTSTAMP:20260426T063152
END:VEVENT
END:VCALENDAR