BEGIN:VCALENDAR
VERSION:2.0
PRODID:http://www.infomax-online.de/imxeventmanager/
METHOD:PUBLISH
BEGIN:VTIMEZONE
TZID:Europe/Berlin
TZURL:http://tzurl.org/zoneinfo-outlook/Europe/Berlin
X-LIC-LOCATION:Europe/Berlin
END:VTIMEZONE
BEGIN:VEVENT
UID:69e5d390070d1
LOCATION:Klöresgang 3, 19053 Schwerin
SUMMARY;ENCODING=QUOTED-PRINTABLE:Book frenzy
DESCRIPTION;ENCODING=QUOTED-PRINTABLE:New releases fresh in the bag=0D=0A=0D=0AInspired by the Catalan custom of giving roses and books on the name=0D=0Aday of St. George, UNESCO declared April 23rd "World Book Day" in=0D=0A1995. On this special day, librarians from Schwerin City Library=0D=0Ainvite literature fans to an entertaining morning full of books and=0D=0Astories - from entertaining novels and interesting non-fiction to=0D=0Asurprising insider tips.=0D=0A=0D=0AAdmission is free.=0D=0A=0D=0A =0D=0A=0D=0ATo register, call 0385 5901922 or send an e-mail to swurm@schwerin.de=0D=0A
URL;VALUE=URI:https://hamburgwhl.infomaxnet.de/standard_widget_en/en/e-book-frenzy?eventDateId=30143535&widgetToken=22vcqFKw4GE.&
CLASS:PUBLIC
DTSTART:20260423T100000
DTSTAMP:20260420T091944
END:VEVENT
END:VCALENDAR