BEGIN:VCALENDAR
VERSION:2.0
PRODID:http://www.infomax-online.de/imxeventmanager/
METHOD:PUBLISH
BEGIN:VTIMEZONE
TZID:Europe/Berlin
TZURL:http://tzurl.org/zoneinfo-outlook/Europe/Berlin
X-LIC-LOCATION:Europe/Berlin
END:VTIMEZONE
BEGIN:VEVENT
UID:69e8cf8a2e84b
LOCATION:Lückecker Straße 74, 23942 Dassow
SUMMARY;ENCODING=QUOTED-PRINTABLE:Dunes, sand and wild animals
DESCRIPTION;ENCODING=QUOTED-PRINTABLE:Coastal ranger Lena Hohls reports from the European protected area on=0D=0Athe coast of Klützer Winkel=0D=0A=0D=0AIn cooperation with the 'Naturstation Fischerkaten', the coastal=0D=0Aranger Lena Hohls will give a photo presentation on 'Dunes, sand and=0D=0Awild animals' in the protected area on the coast of the Klützer=0D=0AWinkel.=0D=0A
URL;VALUE=URI:https://hamburgwhl.infomaxnet.de/standard_widget_en/en/e-dunes-sand-and-wild-animals?eventDateId=30143532&widgetToken=22vcqFKw4GE.&
CLASS:PUBLIC
DTSTART:20260424T180000
DTSTAMP:20260422T153922
END:VEVENT
END:VCALENDAR