BEGIN:VCALENDAR
VERSION:2.0
PRODID:http://www.infomax-online.de/imxeventmanager/
METHOD:PUBLISH
BEGIN:VTIMEZONE
TZID:Europe/Berlin
TZURL:http://tzurl.org/zoneinfo-outlook/Europe/Berlin
X-LIC-LOCATION:Europe/Berlin
END:VTIMEZONE
BEGIN:VEVENT
UID:69e99f0cd0637
LOCATION:Manfred-Samusch-Straße 3, 22926 Ahrensburg
SUMMARY;ENCODING=QUOTED-PRINTABLE:Tüftel! Bau! Entdecke! - Fahrzeuge der Zukunft
DESCRIPTION;ENCODING=QUOTED-PRINTABLE:The Ahrensburg city library, in cooperation with Kinder forschen=0D=0ASchleswig-Holstein Ost eV, invites you to a creative=0D=0A(grand)parent-child workshop.=0D=0A=0D=0AHow will we get around in the city of the future? In this hands-on=0D=0Aworkshop, (grand)parents and their children will develop sustainable=0D=0Ameans of transport – using everyday materials, with lots of=0D=0Aimagination and a joy of experimentation.=0D=0A=0D=0AUnder the motto "Tinker! Build! Discover!", small prototypes are being=0D=0Acreated that show what the mobility of tomorrow could look like.=0D=0AWhether a flying bicycle, a solar-powered scooter, or completely new=0D=0Ainventions – anything goes.=0D=0A=0D=0AThe workshop is aimed at pairs of (grand)parents and children aged 6=0D=0Ato 9 years. Six pairs can participate per session. Participation is=0D=0Afree, but registration is required.=0D=0A=0D=0AAppointments (45 minutes each):=0D=0A10:00 – 10:45 am=0D=0A11:00 – 11:45 am=0D=0A12:00 – 12:45=0D=0A=0D=0ARegistration: Ahrensburg City Library, Telephone: 04102 / 77 172,=0D=0AE-mail: stadtbuecherei@ahrensburg.de=0D=0A=0D=0AHow will we get around in the city of the future? In this hands-on=0D=0Aworkshop, (grand)parents and their children will develop sustainable=0D=0Ameans of transportation – from everyday materials,=0D=0Awith lots of imagination and a joy of experimenting.=0D=0ASmall prototypes are being created that show what the mobility of=0D=0Atomorrow could look like. Whether it's a flying bicycle, a=0D=0Asolar-powered scooter, or entirely new inventions – anything goes.=0D=0A=0D=0AOrganizer: Ahrensburg City Library=0D=0A
URL;VALUE=URI:https://hamburgwhl.infomaxnet.de/standard_widget_en/en/e-tueftel-bau-entdecke-fahrzeuge-der-zukunft?eventDateId=30127269&widgetToken=22vcqFKw4GE.&
CLASS:PUBLIC
DTSTART:20260425T100000
DTSTAMP:20260423T062444
END:VEVENT
END:VCALENDAR