BEGIN:VCALENDAR
VERSION:2.0
PRODID:http://www.infomax-online.de/imxeventmanager/
METHOD:PUBLISH
BEGIN:VTIMEZONE
TZID:Europe/Berlin
TZURL:http://tzurl.org/zoneinfo-outlook/Europe/Berlin
X-LIC-LOCATION:Europe/Berlin
END:VTIMEZONE
BEGIN:VEVENT
UID:69e9de76c59c6
LOCATION:Johannes-Brahms-Platz , 20355 Hamburg
SUMMARY;ENCODING=QUOTED-PRINTABLE:Zwei Dreissiger
DESCRIPTION;ENCODING=QUOTED-PRINTABLE:In their podcast »Zwei Dreissiger«, Melisa Dobric and Florian=0D=0ADobric-Gerl not only treat each other, but also their listeners –=0D=0Awith a mixture of everyday observations, relationship madness and=0D=0Apocket-psychological wisdom, packed with honest humour. Melisa and Flo=0D=0Acontinue to write their stories on the new tour: fresh, unembellished=0D=0Aand, as the name promises, sometimes completely unpredictable. An=0D=0Aevening full of laughs, insights and genuine feelings.=0D=0A=0D=0APERFORMERS=0D=0A=0D=0AMELISA DOBRIĆ talk=0D=0A=0D=0AFLORIAN DOBRIĆ-GERL talk=0D=0A=0D=0APROGRAM=0D=0A=0D=0AThe event takes place with an interval.=0D=0A=0D=0A =0D=0A
URL;VALUE=URI:https://hamburgwhl.infomaxnet.de/standard_widget_en/en/e-zwei-dreissiger?eventDateId=30126153&widgetToken=22vcqFKw4GE.&
CLASS:PUBLIC
DTSTART:20260421T200000
DTSTAMP:20260423T105518
END:VEVENT
END:VCALENDAR