BEGIN:VCALENDAR
VERSION:2.0
PRODID:http://www.infomax-online.de/imxeventmanager/
METHOD:PUBLISH
BEGIN:VTIMEZONE
TZID:Europe/Berlin
TZURL:http://tzurl.org/zoneinfo-outlook/Europe/Berlin
X-LIC-LOCATION:Europe/Berlin
END:VTIMEZONE
BEGIN:VEVENT
UID:69ea19098606b
LOCATION:Bademutterstraße 2, 23966 Wismar
SUMMARY;ENCODING=QUOTED-PRINTABLE:Pharmacy Sessions - Lina Piacentini
DESCRIPTION;ENCODING=QUOTED-PRINTABLE:This time Lina Piacentini enchants us with her heart, her voice and=0D=0Aher ukulele in the café. Handmade music, candlelight & wine.=0D=0AAdmission free (hat donation). Be there=0D=0A=0D=0A =0D=0A=0D=0AWhen flickering candlelight meets a cozy living room atmosphere, it's=0D=0Atime again for the APOTHEKEN SESSIONS. Once a month, we transform the=0D=0Acafé next door into a stage for special voices and handmade sounds.=0D=0AThis time we are looking forward to an artist who shows how much soul=0D=0Athere is in four strings: LINA PIACENTINI.=0D=0A=0D=0AFor Berlin singer-songwriter Lina Piacentini, the answer to the=0D=0Aquestion of meaning is simple: MUSIC. Her path began classically on=0D=0Athe violin at the age of five, but even then, feeling won out over=0D=0Atheory - instead of looking rigidly at sheet music, she preferred to=0D=0Alearn pieces by ear. The decisive spark came in first grade, when=0D=0Apraise from her teacher sparked a lifelong passion for singing. A=0D=0Adecade ago, she finally found her great love via the guitar: the=0D=0AUKULELE.=0D=0A=0D=0AIn Lina's hands, the often underestimated ukulele becomes a powerful=0D=0Atool for deep emotions. With a mixture of technical skill and pure=0D=0Apassion, she proves that this little instrument is far more than just=0D=0Aa cheerful accompaniment. Her music is honest, approachable and=0D=0Acarried by a voice that tells stories even before the first word is=0D=0Asung.=0D=0A=0D=0AAs always, ADMISSION is FREE. We want to make music accessible to=0D=0Aeveryone. At the end of the evening, "the hat goes round" - a=0D=0Awonderful opportunity to support Lina Piacentini directly and show=0D=0Ayour appreciation for her art.=0D=0A=0D=0ACome along, find a cozy spot and let yourself be enchanted by the=0D=0Aenergy of this passionate artist. We look forward to an unforgettable=0D=0Aevening with you!=0D=0A=0D=0A =0D=0A
URL;VALUE=URI:https://hamburgwhl.infomaxnet.de/standard_widget_en/en/e-pharmacy-sessions-lina-piacentini?eventDateId=30121370&widgetToken=22vcqFKw4GE.&
CLASS:PUBLIC
DTSTART:20260423T200000
DTSTAMP:20260423T150513
END:VEVENT
END:VCALENDAR