BEGIN:VCALENDAR
VERSION:2.0
PRODID:http://www.infomax-online.de/imxeventmanager/
METHOD:PUBLISH
BEGIN:VTIMEZONE
TZID:Europe/Berlin
TZURL:http://tzurl.org/zoneinfo-outlook/Europe/Berlin
X-LIC-LOCATION:Europe/Berlin
END:VTIMEZONE
BEGIN:VEVENT
UID:69ed8144f3c47
LOCATION:Messeplatz 1, 20357 Hamburg
SUMMARY;ENCODING=QUOTED-PRINTABLE:Haspa Marathon Hamburg
DESCRIPTION;ENCODING=QUOTED-PRINTABLE:Since 1986 the Haspa Marathon takes place in Hamburg every year.=0D=0A
URL;VALUE=URI:https://hamburgwhl.infomaxnet.de/standard_widget_en/en/e-haspa-marathon-hamburg?eventDateId=30121106&widgetToken=22vcqFKw4GE.&
CLASS:PUBLIC
DTSTART:20260426T083000
DTSTAMP:20260426T050644
END:VEVENT
END:VCALENDAR