BEGIN:VCALENDAR
VERSION:2.0
PRODID:http://www.infomax-online.de/imxeventmanager/
METHOD:PUBLISH
BEGIN:VTIMEZONE
TZID:Europe/Berlin
TZURL:http://tzurl.org/zoneinfo-outlook/Europe/Berlin
X-LIC-LOCATION:Europe/Berlin
END:VTIMEZONE
BEGIN:VEVENT
UID:69e605c0bdf51
LOCATION:Platz der Deutschen Einheit 1, 20457 Hamburg
SUMMARY;ENCODING=QUOTED-PRINTABLE:Discover Talent: Svetlana Andreeva / Piano Recital
DESCRIPTION;ENCODING=QUOTED-PRINTABLE:With this intriguing programme title for a concert, Ukrainian pianist=0D=0ASvetlana Andreeva invites us to join her on a journey to unearth her=0D=0Amusical other self through total immersion in the music she loves. Her=0D=0Aartistic persona, on the other hand, has been crystal clear ever since=0D=0Aher formidable victory at the Concours International de Piano=0D=0Ad’Orléans in 2024. The competition is dedicated to music of the=0D=0A20th and 21st centuries which is Andreeva’s greatest passion and=0D=0Awhere she feels musically most at home. She studied composition as=0D=0Awell as piano and will be focusing almost exclusively on works from=0D=0Athe early 20th century. You can expect to be drawn into the=0D=0Aintrospective fog of Janacek’s »In the Mists«, catch a brief=0D=0Aglimpse behind the »Masks« of Karol Szymanowski and experience=0D=0Aspiritual extremes from hell to redemption in Scriabin’s »Black=0D=0AMass« and »White Mass« as the music transports you to the=0D=0Aboundaries of conscious thought and beyond.=0D=0A=0D=0APERFORMERS=0D=0A=0D=0ASVETLANA ANDREEVA piano=0D=0A=0D=0APROGRAM=0D=0A=0D=0ATHIERRY ESCAICH=0D=0ALes Litanies de l’ombre=0D=0A=0D=0ALEOŠ JANÁČEK=0D=0AIm Nebel=0D=0A=0D=0AKAROL SZYMANOWSKI=0D=0AMasken=0D=0A=0D=0A- Interval -=0D=0A=0D=0AALEXANDER SKRJABIN=0D=0ASonate Nr. 9 F-Dur op. 68 »Schwarze Messe«=0D=0A=0D=0ATRISTAN MURAIL=0D=0ALa Mandragore=0D=0A=0D=0AMAURICE RAVEL=0D=0AOiseaux tristes=0D=0A=0D=0AALEXANDER SKRJABIN=0D=0ASonate Nr. 7 op. 64 »Weiße Messe«=0D=0A
URL;VALUE=URI:https://hamburgwhl.infomaxnet.de/standard_widget_en/en/e-discover-talent-svetlana-andreeva-piano-recital?eventDateId=30114758&widgetToken=22vcqFKw4GE.&
CLASS:PUBLIC
DTSTART:20260422T193000
DTSTAMP:20260420T125352
END:VEVENT
END:VCALENDAR