BEGIN:VCALENDAR
VERSION:2.0
PRODID:http://www.infomax-online.de/imxeventmanager/
METHOD:PUBLISH
BEGIN:VTIMEZONE
TZID:Europe/Berlin
TZURL:http://tzurl.org/zoneinfo-outlook/Europe/Berlin
X-LIC-LOCATION:Europe/Berlin
END:VTIMEZONE
BEGIN:VEVENT
UID:69e60577969e8
LOCATION:Platz der Deutschen Einheit 1, 20457 Hamburg
SUMMARY;ENCODING=QUOTED-PRINTABLE:NDR Elbphilharmonie Orchestra / Vadim Gluzman / Martin Fröst / Sakari=0D=0AOramo
DESCRIPTION;ENCODING=QUOTED-PRINTABLE:PERFORMERS=0D=0A=0D=0ANDR ELBPHILHARMONIE ORCHESTER orchestra=0D=0A=0D=0AVADIM GLUZMAN violin=0D=0A=0D=0AMARTIN FRÖST clarinet=0D=0A=0D=0ASAKARI ORAMO conductor=0D=0A=0D=0APROGRAM=0D=0A=0D=0ARICHARD STRAUSS=0D=0ASerenade for Wind Instruments in E-flat major, Op. 7=0D=0A=0D=0ASALLY BEAMISH=0D=0ADistans=0D=0A=0D=0A- Interval -=0D=0A=0D=0ALUDWIG VAN BEETHOVEN=0D=0ASymphony No. 4 in B-flat major, Op. 60=0D=0A
URL;VALUE=URI:https://hamburgwhl.infomaxnet.de/standard_widget_en/en/e-ndr-elbphilharmonie-orchestra-vadim-gluzman-martin-froest-sakari-oramo-1?eventDateId=30114756&widgetToken=22vcqFKw4GE.&
CLASS:PUBLIC
DTSTART:20260423T200000
DTSTAMP:20260420T125239
END:VEVENT
END:VCALENDAR