BEGIN:VCALENDAR
VERSION:2.0
PRODID:http://www.infomax-online.de/imxeventmanager/
METHOD:PUBLISH
BEGIN:VTIMEZONE
TZID:Europe/Berlin
TZURL:http://tzurl.org/zoneinfo-outlook/Europe/Berlin
X-LIC-LOCATION:Europe/Berlin
END:VTIMEZONE
BEGIN:VEVENT
UID:69eb225365305
LOCATION:Schloßstraße 5, 21465 Reinbek
SUMMARY;ENCODING=QUOTED-PRINTABLE:Konzertshow - David, Ben und Finn
DESCRIPTION;ENCODING=QUOTED-PRINTABLE:David, a pianist in the throes of a midlife crisis, mourns past=0D=0Asuccesses. Ben, at the beginning of his career, plays the trombone=0D=0Asensationally, winning every competition. And then there's Finn on the=0D=0Adrums. He usually seems strangely detached. But when he twirls his=0D=0Adrumsticks, the audience gasps.=0D=0A=0D=0AA chance meeting brings the three musicians together. The veteran has=0D=0Athe contacts, and in return, the youngsters show him a hopeful=0D=0Apresence. They exude joy, humor, and lightheartedness.=0D=0A=0D=0AThen suddenly the big opportunity comes...=0D=0A
URL;VALUE=URI:https://hamburgwhl.infomaxnet.de/standard_widget_en/en/e-konzertshow-david-ben-und-finn?eventDateId=30111774&widgetToken=22vcqFKw4GE.&
CLASS:PUBLIC
DTSTART:20260424T193000
DTSTAMP:20260424T095707
END:VEVENT
END:VCALENDAR