BEGIN:VCALENDAR
VERSION:2.0
PRODID:http://www.infomax-online.de/imxeventmanager/
METHOD:PUBLISH
BEGIN:VTIMEZONE
TZID:Europe/Berlin
TZURL:http://tzurl.org/zoneinfo-outlook/Europe/Berlin
X-LIC-LOCATION:Europe/Berlin
END:VTIMEZONE
BEGIN:VEVENT
UID:69e5d3ab0a307
LOCATION:Platz der Deutschen Einheit 1, 20457 Hamburg
SUMMARY;ENCODING=QUOTED-PRINTABLE:NDR Chamber Music Concert / Martin Fröst
DESCRIPTION;ENCODING=QUOTED-PRINTABLE:»As a clarinettist, Mozart is your life,« says the current Artist in=0D=0AResidence of the NDR Elbphilharmonie Orchestra. After all, it was his=0D=0Aencounter with the great Viennese classic’s clarinet concerto that=0D=0Aled Martin Fröst to take up his instrument at the age of nine. Since=0D=0Athen, the Swede has developed an enormous repertoire, premiered=0D=0Anumerous new works, ventured into remote regions of the classical=0D=0Amusic world – and yet he always returns to Mozart.=0D=0A=0D=0APERFORMERS=0D=0A=0D=0AMITGLIEDER DES NDR ELBPHILHARMONIE ORCHESTERS ensemble=0D=0A=0D=0AMARTIN FRÖST clarinet=0D=0A=0D=0APROGRAM=0D=0A=0D=0AWOLFGANG AMADEUS MOZART=0D=0AKlarinettenquintett A-Dur KV 581 »Stadler-Quintett«=0D=0A=0D=0A- Interval -=0D=0A=0D=0AWOLFGANG AMADEUS MOZART=0D=0ASerenade B-Dur KV 370a »Gran Partita«=0D=0A
URL;VALUE=URI:https://hamburgwhl.infomaxnet.de/standard_widget_en/en/e-ndr-kammerkonzert-martin-froest?eventDateId=30110496&widgetToken=22vcqFKw4GE.&
CLASS:PUBLIC
DTSTART:20260421T193000
DTSTAMP:20260420T092011
END:VEVENT
END:VCALENDAR