BEGIN:VCALENDAR
VERSION:2.0
PRODID:http://www.infomax-online.de/imxeventmanager/
METHOD:PUBLISH
BEGIN:VTIMEZONE
TZID:Europe/Berlin
TZURL:http://tzurl.org/zoneinfo-outlook/Europe/Berlin
X-LIC-LOCATION:Europe/Berlin
END:VTIMEZONE
BEGIN:VEVENT
UID:69e7fa07f2f8e
LOCATION:Johannes-Brahms-Platz , 20355 Hamburg
SUMMARY;ENCODING=QUOTED-PRINTABLE:Symphoniker Hamburg / Chamber Concert
DESCRIPTION;ENCODING=QUOTED-PRINTABLE:Under the title »String Quartet Meets Piano« different worlds of=0D=0Achamber music come together. Members of the Hamburg Symphony Orchestra=0D=0Aperform in string quartet formations together with pianist Ye-eun=0D=0APark, presenting a program that combines tradition and the present.=0D=0A=0D=0AThe first half of the concert features three works for an unusual=0D=0Astring quartet ensemble with double bass. In the world premiere of a=0D=0Anew work by Nikolai Brücher, a long-time collaborator of the symphony=0D=0Aorchestra, violin, viola, cello, and double bass engage in a=0D=0Acontemporary dialogue. Purcell’s three fantasies will also be=0D=0Aperformed in an arrangement for this instrumentation. These works will=0D=0Abe paired with Rossini’s Third Sonata for Strings.=0D=0A=0D=0AIn the second part of the evening, the soundscape expands to include a=0D=0Apiano quintet: Ralph Vaughan Williams’ Piano Quintet in C minor=0D=0Acombines romantic expressiveness with sweeping melodic lines and dense=0D=0Aharmonies. The piano joins the string quartet as an equal partner,=0D=0Aopening up a new dimension of chamber music color. The result is a=0D=0Aconcert evening that combines different ensembles and styles,=0D=0Aimpressively showcasing the diversity of chamber music from a total of=0D=0Afour eras.=0D=0A=0D=0APERFORMERS=0D=0A=0D=0AYIJU SEO violin=0D=0A=0D=0AJUHEE LEE viola=0D=0A=0D=0ARAFAEL MENGES violoncello=0D=0A=0D=0ARAFAEL DA CUNHA double bass=0D=0A=0D=0AYE-EUN PARK piano=0D=0A=0D=0APROGRAM=0D=0A=0D=0AHENRY PURCELL=0D=0ADrei Fantasien=0D=0A=0D=0AGIOACHINO ROSSINI=0D=0ASonate Nr. 3 C-Dur für Streicher=0D=0A=0D=0ANIKOLAI BRÜCHER=0D=0ANeues Werk für Violine, Viola, Violoncello und Kontrabass=0D=0A=0D=0ARALPH VAUGHAN WILLIAMS=0D=0AKlavierquintett c-Moll=0D=0A
URL;VALUE=URI:https://hamburgwhl.infomaxnet.de/standard_widget_en/en/e-symphoniker-hamburg-chamber-concert-9?eventDateId=30103442&widgetToken=22vcqFKw4GE.&
CLASS:PUBLIC
DTSTART:20260423T193000
DTSTAMP:20260422T002823
END:VEVENT
END:VCALENDAR