BEGIN:VCALENDAR
VERSION:2.0
PRODID:http://www.infomax-online.de/imxeventmanager/
METHOD:PUBLISH
BEGIN:VTIMEZONE
TZID:Europe/Berlin
TZURL:http://tzurl.org/zoneinfo-outlook/Europe/Berlin
X-LIC-LOCATION:Europe/Berlin
END:VTIMEZONE
BEGIN:VEVENT
UID:69ed815240f4b
LOCATION:Alte Burg 1, 19306 Neustadt-Glewe
SUMMARY;ENCODING=QUOTED-PRINTABLE:BurgArt on 23.04.2023
DESCRIPTION;ENCODING=QUOTED-PRINTABLE:Plant & craft market with many children's attractions - indoors &=0D=0Aoutdoors=0D=0A=0D=0AOn Sunday, April 23, 2023, the city of Neustadt-Glewe together with=0D=0Athe Neustadt-Glewe trade association jointly invites you to the=0D=0Acastle.=0D=0A=0D=0AThe traditional plant and craft market, which is themed "Spring=0D=0AAwakening", will take place from 11 am - 5 pm in and around the castle=0D=0ANeustadt-Glewe.=0D=0A=0D=0AThus, flower and plant dealers, artists, craftsmen and artisans will=0D=0Apresent themselves.=0D=0A=0D=0AMany great children's attractions are on the program: bungee=0D=0Atrampoline, horseshoe throwing, crossbow shooting & archery,=0D=0Ahandicrafts & painting, pottery and children's make-up.=0D=0A=0D=0AThere will also be a petting zoo and pony rides on site.=0D=0A=0D=0ALive music with "Folkmen".=0D=0A=0D=0AJugglery, juggling & mischief with Arne Feuerschlund.=0D=0A=0D=0ACulinary delicacies, sweet, savory, vegetarian,... there is something=0D=0Afor every palate.=0D=0A=0D=0AWe are looking forward to many small and big visitors. Admission to=0D=0ABurgArt is free of charge.=0D=0A
URL;VALUE=URI:https://hamburgwhl.infomaxnet.de/standard_widget_en/en/e-burgart-on-23042023?eventDateId=30102040&widgetToken=22vcqFKw4GE.&
CLASS:PUBLIC
DTSTART:20260426T110000
DTSTAMP:20260426T050658
END:VEVENT
END:VCALENDAR