BEGIN:VCALENDAR
VERSION:2.0
PRODID:http://www.infomax-online.de/imxeventmanager/
METHOD:PUBLISH
BEGIN:VTIMEZONE
TZID:Europe/Berlin
TZURL:http://tzurl.org/zoneinfo-outlook/Europe/Berlin
X-LIC-LOCATION:Europe/Berlin
END:VTIMEZONE
BEGIN:VEVENT
UID:69ed6b337196e
LOCATION:Alte Burg 1, 19306 Neustadt-Glewe
SUMMARY;ENCODING=QUOTED-PRINTABLE:Lady of the castle
DESCRIPTION;ENCODING=QUOTED-PRINTABLE:Concert & entertainment at Neustadt-Glewe Castle=0D=0A=0D=0AOn 29.02.2020, 7 pm, the new Burgfäulein will be chosen at=0D=0ANeustadt-Glewe Castle.=0D=0A=0D=0ABe there and experience an entertaining evening with exciting tasks=0D=0A=0D=0A& great live music with the medieval band "Satolstelamanderfanz"!=0D=0A=0D=0A =0D=0A
URL;VALUE=URI:https://hamburgwhl.infomaxnet.de/standard_widget_en/en/e-lady-of-the-castle?eventDateId=30102030&widgetToken=22vcqFKw4GE.&
CLASS:PUBLIC
DTSTART:20260426T110000
DTSTAMP:20260426T033235
END:VEVENT
END:VCALENDAR