BEGIN:VCALENDAR
VERSION:2.0
PRODID:http://www.infomax-online.de/imxeventmanager/
METHOD:PUBLISH
BEGIN:VTIMEZONE
TZID:Europe/Berlin
TZURL:http://tzurl.org/zoneinfo-outlook/Europe/Berlin
X-LIC-LOCATION:Europe/Berlin
END:VTIMEZONE
BEGIN:VEVENT
UID:69e5c00e39e6f
LOCATION:Röntgenstraße 22, 19055 Schwerin
SUMMARY;ENCODING=QUOTED-PRINTABLE:Quatschkommode - "Robbers on their guard - A child robber takes=0D=0Acourage"
DESCRIPTION;ENCODING=QUOTED-PRINTABLE:Finest music theater to join in from 3 years of age=0D=0A=0D=0A =0D=0A=0D=0AHow a child robber finds his courage.=0D=0A=0D=0AThe courage to say no.=0D=0A=0D=0AThe courage to rise above himself.=0D=0A=0D=0AThe courage to free his robber dad from prison.=0D=0A=0D=0AThe courage to go his own way.=0D=0A=0D=0AFrom robber child to nonsense dresser.=0D=0A=0D=0A =0D=0A=0D=0ACast:=0D=0A=0D=0ARAVEN, CHILD ROBBER, ROBBER AND NONSENSE DRESSER:=0D=0A=0D=0AChristian Zebisch, vocals, accordion, mini-drumset=0D=0A=0D=0A =0D=0A=0D=0ALYRICS AND MUSIC:=0D=0A=0D=0AChristian Zebisch=0D=0A=0D=0AWith the kind support of the State of Mecklenburg-Vorpommern -=0D=0AMinistry of Science, Culture, Federal and European Affairs=0D=0A=0D=0A =0D=0A=0D=0A =0D=0A=0D=0A =0D=0A
URL;VALUE=URI:https://hamburgwhl.infomaxnet.de/standard_widget_en/en/e-quatschkommode-robbers-on-their-guard-a-child-robber-takes-courage?eventDateId=30099290&widgetToken=22vcqFKw4GE.&
CLASS:PUBLIC
DTSTART:20260421T110000
DTSTAMP:20260420T075630
END:VEVENT
END:VCALENDAR