BEGIN:VCALENDAR
VERSION:2.0
PRODID:http://www.infomax-online.de/imxeventmanager/
METHOD:PUBLISH
BEGIN:VTIMEZONE
TZID:Europe/Berlin
TZURL:http://tzurl.org/zoneinfo-outlook/Europe/Berlin
X-LIC-LOCATION:Europe/Berlin
END:VTIMEZONE
BEGIN:VEVENT
UID:69e7bf8602114
LOCATION:Gertigstraße 46, 22303 Hamburg
SUMMARY;ENCODING=QUOTED-PRINTABLE:FOTOKURS: Fotografieren und Filmen mit dem iPhone - 10 IPHONE FOTOKURS
DESCRIPTION;ENCODING=QUOTED-PRINTABLE:Please note: It is possible that an event has been cancelled but is=0D=0Astill listed on this website. For the latest information about=0D=0Acancelations or postponements please check the organizer’s website.=0D=0A=0D=0AYou have a great subject in front of the nose! But the good camera at=0D=0Ahome in the closet ... =0D=0ADo not worry. You whip out your iPhone and take a good photo of it. In=0D=0Athis course we will show you what you and your iPhone really can.=0D=0A=0D=0AWe explain step by step all the settings of your iPhone camera. In the=0D=0Apractical part, turn a small slow-motion clip with amazing quality.=0D=0AThey learn useful photo apps and know at the end of the course you do=0D=0Awith your iPhone simply better pictures.=0D=0A=0D=0AWHY IT'S IN DETAIL:=0D=0A=0D=0ADifferences iPhone / Digital Camera =0D=0APossibilities and limitations of the iPhone =0D=0AFlashes, self-timer, Live function =0D=0APanorama, HDR (High Dynamic Range) =0D=0AImage editing with the iPhone =0D=0AMeet and upload useful photo apps =0D=0AVideo, slow motion, fast motion =0D=0ATurning a small slow-motion clips =0D=0ABasics of image design =0D=0Aback up files correctly =0D=0Asend Photos =0D=0APractical exercises: put the lessons under the instruction immediately=0D=0A=0D=0AAll questions that are burning under the nails=0D=0A=0D=0AGOOD TO KNOW:=0D=0A=0D=0AWe offer this course during the day on Saturdays or during the week in=0D=0Athe evening.=0D=0A=0D=0ACourse on Saturday: =0D=0AWelcome 9:45, price 10:00 to 14:00 =0D=0AIncluding delicious catering, Cappuccino & Co=0D=0A=0D=0ACourse evening: =0D=0AWelcome 17:45, price 18:00 to 10:00 p.m. =0D=0AIncluding delicious catering, Cappuccino & Co=0D=0A=0D=0ANumber of participants: minimum 4 / maximum 8 =0D=0APrice per person: 119, -=0D=0A=0D=0AWHAT TO BRING:=0D=0A=0D=0AYour fully charged iPhone =0D=0AYour charging cable =0D=0AFun experimenting=0D=0A
URL;VALUE=URI:https://hamburgwhl.infomaxnet.de/standard_widget_en/en/e-fotokurs-fotografieren-und-filmen-mit-dem-iphone-10-iphone-fotokurs?eventDateId=30087874&widgetToken=22vcqFKw4GE.&
CLASS:PUBLIC
DTSTART:20260617T174500
DTSTAMP:20260421T201846
END:VEVENT
END:VCALENDAR