BEGIN:VCALENDAR
VERSION:2.0
PRODID:http://www.infomax-online.de/imxeventmanager/
METHOD:PUBLISH
BEGIN:VTIMEZONE
TZID:Europe/Berlin
TZURL:http://tzurl.org/zoneinfo-outlook/Europe/Berlin
X-LIC-LOCATION:Europe/Berlin
END:VTIMEZONE
BEGIN:VEVENT
UID:69e9889225811
LOCATION:Gertigstraße 46, 22303 Hamburg
SUMMARY;ENCODING=QUOTED-PRINTABLE:FOTOKURS: Nachtaufnahmen in der Stadt - 04 City Lights //
DESCRIPTION;ENCODING=QUOTED-PRINTABLE:Please note: It is possible that an event has been cancelled but is=0D=0Astill listed on this website. For the latest information about=0D=0Acancelations or postponements please check the organizer’s website.=0D=0A=0D=0A =0D=0A=0D=0AAt night all cats are Grey? Who said Hamburg lights and we catch it=0D=0Aone with our cameras! In our photo trip through HafenCity and=0D=0ASpeicherstadt we show you how to shoot surprisingly good night shots=0D=0Awith a few simple tricks.=0D=0A=0D=0AStep by step you get to know the various possibilities for picture=0D=0Acomposition. Experiment with perspectives and focal lengths,=0D=0Apracticing the use of sharpness, blur, and motion blur and discover=0D=0Ahow to achieve with torches, sparklers or random passing cars great=0D=0Aeffects.=0D=0A=0D=0AWHAT IT'S ALL IN THE DETAILS=0D=0A=0D=0A	* The correct exposure at night =0D=0A	* The play brought light sources =0D=0A	* Image design: what prospects are best for my design =0D=0A	* Choice of focal length =0D=0A	* Use of selective focus, blur and motion blur =0D=0A	* How to avoid converging lines or how do I use it deliberately =0D=0A	* What is the Golden Rule, and how can it help in picture composition=0D=0A=0D=0A	* Use of a tripod and mirror lock =0D=0A	* Legal Fundamentals of Architecture Photography (no joke) =0D=0A	* Evaluation of the image results and feedback =0D=0A	* Notes on image processing and proper data backup =0D=0A	* All questions that are burning under the nails =0D=0A=0D=0AGOOD TO KNOW=0D=0A=0D=0ADuration 2 evenings: 19:00 to 23:00 and 18:00 to 21:00=0D=0A=0D=0A1. Evening =0D=0A19:00: Meeting point HafenCity, Big Grasbrook, Magellan Terraces on=0D=0A"Elbphilharmonie Pavilion" (black cube) After briefing and less theory=0D=0Aphotographic expedition begins=0D=0A=0D=0A2. Evening =0D=0A18:00: Meeting point LOFTACADEMY, Gertigstr. 46, 22303 Hamburg =0D=0AThere Picture Meeting until 21:00 including delicious catering,=0D=0ACappuccino & Co=0D=0A=0D=0ANumber of participants: minimum 4 / maximum 8 =0D=0APrice per person: 139, -=0D=0A=0D=0APLEASE BRING=0D=0A=0D=0A	* Basic knowledge in dealing with their own camera =0D=0A	* A camera, in which aperture and shutter speed can be manually=0D=0Aadjusted and the user manual =0D=0A	* Batteries - Load previously =0D=0A	* Charged extra batteries (if present) =0D=0A	* Wide / telephoto lens and tripod =0D=0A	* Flashlight at night photo and notebook (if available) at the=0D=0Ameeting Evening =0D=0A	* Discovery is fun, figures and photographs =0D=0A=0D=0A =0D=0A
URL;VALUE=URI:https://hamburgwhl.infomaxnet.de/standard_widget_en/en/e-fotokurs-nachtaufnahmen-in-der-stadt-04-city-lights?eventDateId=30087815&widgetToken=22vcqFKw4GE.&
CLASS:PUBLIC
DTSTART:20260424T180000
DTSTAMP:20260423T044850
END:VEVENT
END:VCALENDAR