BEGIN:VCALENDAR
VERSION:2.0
PRODID:http://www.infomax-online.de/imxeventmanager/
METHOD:PUBLISH
BEGIN:VTIMEZONE
TZID:Europe/Berlin
TZURL:http://tzurl.org/zoneinfo-outlook/Europe/Berlin
X-LIC-LOCATION:Europe/Berlin
END:VTIMEZONE
BEGIN:VEVENT
UID:69ed5fc000cdb
LOCATION:Gertigstraße 46, 22303 Hamburg
SUMMARY;ENCODING=QUOTED-PRINTABLE:FOTOKURS: Porträtfotografie für Einsteiger & Fortgeschrittene - 02=0D=0AFaces //
DESCRIPTION;ENCODING=QUOTED-PRINTABLE:Please note: It is possible that an event has been cancelled but is=0D=0Astill listed on this website. For the latest information about=0D=0Acancelations or postponements please check the organizer’s website.=0D=0A=0D=0A =0D=0A=0D=0APlease smile! Namely, it is not so difficult to shoot good portraits=0D=0Aof children, friends and other favorite people. In this course we will=0D=0Ashow you how to plan a photo session at home, builds and performs.=0D=0AThey practice using the tripod, get an insight into the secrets of=0D=0Agood lighting and learn from professionals how to get the desired=0D=0Areactions out tickles from his "model". You will also learn the tricks=0D=0Ayou significantly increase your hit rate in snapshots.=0D=0A=0D=0AWHAT IT'S ALL IN THE DETAILS:=0D=0A=0D=0A	* Planned portraits: =0D=0A	* type assessment =0D=0A	* Image Concepts, background =0D=0A	* Focal length, perspective =0D=0A	* Camera type tripod =0D=0A	* Lighting variations, light shapers, lighting =0D=0A	* little advice about hair / makeup / Styling =0D=0A	* Leadership model =0D=0A	* Criteria for the selection of images =0D=0A	* Snapshots: =0D=0A	* camera settings =0D=0A	* Light, background =0D=0A	* Focal length, perspective =0D=0A	* As well: All questions that are burning under the nails =0D=0A	* Practical exercises: planned portraits and snapshots =0D=0A=0D=0AGOOD TO KNOW:=0D=0A=0D=0ADuration 1 day =0D=0AWelcome 9:30, price 10:00 to 17:00 =0D=0AIncluding delicious catering, Cappuccino & Co=0D=0A=0D=0ANumber of participants: minimum 4 / maximum 8 =0D=0APrice per person: 139, -=0D=0A=0D=0APLEASE BRING:=0D=0A=0D=0A	* When available: their own camera and its user manual (aperture /=0D=0Atime should be manually adjustable) =0D=0A	* Batteries - please invite ago =0D=0A	* Enjoy photography =0D=0A=0D=0A =0D=0A
URL;VALUE=URI:https://hamburgwhl.infomaxnet.de/standard_widget_en/en/e-fotokurs-portraetfotografie-fuer-einsteiger-fortgeschrittene-02-faces?eventDateId=30087766&widgetToken=22vcqFKw4GE.&
CLASS:PUBLIC
DTSTART:20260620T094500
DTSTAMP:20260426T024344
END:VEVENT
END:VCALENDAR