BEGIN:VCALENDAR
VERSION:2.0
PRODID:http://www.infomax-online.de/imxeventmanager/
METHOD:PUBLISH
BEGIN:VTIMEZONE
TZID:Europe/Berlin
TZURL:http://tzurl.org/zoneinfo-outlook/Europe/Berlin
X-LIC-LOCATION:Europe/Berlin
END:VTIMEZONE
BEGIN:VEVENT
UID:69eb0e3bcde4a
LOCATION:Harvestehuder Weg 12, 20148 Hamburg
SUMMARY;ENCODING=QUOTED-PRINTABLE:Unlearn the canon: Wie gestalten wir Konzertprogramme der Zukunft?
DESCRIPTION;ENCODING=QUOTED-PRINTABLE:This workshop, in cooperation with Musica Inaudita (Berlin), invites=0D=0Aparticipants to an open and critical examination of the musical canon.=0D=0ATogether, we will question familiar program patterns, discover new=0D=0Aperspectives, and develop ideas for more diverse concert formats.=0D=0A=0D=0AAbout the Feminale:=0D=0A=0D=0AAt the Feminale, female composers are celebrated, and their music=0D=0Afinally gets the stage it deserves! Because female composers do exist=0D=0Aand always have – they've simply been erased from music history.=0D=0AThat's why this April we're dedicating a festival to them at the=0D=0AUniversity of Music and Theatre, a festival that focuses entirely on=0D=0Athem. Come along and discover your new favorite pieces!=0D=0A=0D=0AMore information and program details can be found at:=0D=0Ahttp://hfmt.art/feminale=0D=0A=0D=0AThe concert is free, but registration via eventbrite is required.=0D=0A
URL;VALUE=URI:https://hamburgwhl.infomaxnet.de/standard_widget_en/en/e-unlearn-the-canon-wie-gestalten-wir-konzertprogramme-der-zukunft?eventDateId=30087026&widgetToken=22vcqFKw4GE.&
CLASS:PUBLIC
DTSTART:20260425T163000
DTSTAMP:20260424T083123
END:VEVENT
END:VCALENDAR