BEGIN:VCALENDAR
VERSION:2.0
PRODID:http://www.infomax-online.de/imxeventmanager/
METHOD:PUBLISH
BEGIN:VTIMEZONE
TZID:Europe/Berlin
TZURL:http://tzurl.org/zoneinfo-outlook/Europe/Berlin
X-LIC-LOCATION:Europe/Berlin
END:VTIMEZONE
BEGIN:VEVENT
UID:69eb20fba0467
LOCATION:Harvestehuder Weg 12, 20148 Hamburg
SUMMARY;ENCODING=QUOTED-PRINTABLE:Luises Schatztruhe
DESCRIPTION;ENCODING=QUOTED-PRINTABLE:A musical theatre piece with songs and texts about and by the composer=0D=0ALuise Greger – narrated and conceived by her=0D=0Agreat-great-granddaughter Susanne Heitkamp and performed by students=0D=0Aof the HfMT (for the whole family, recommended for children aged=0D=0A5-10).=0D=0A=0D=0AAbout the Feminale:=0D=0A=0D=0AAt the Feminale, female composers are celebrated, and their music=0D=0Afinally gets the stage it deserves! Because female composers do exist=0D=0Aand always have – they've simply been erased from music history.=0D=0AThat's why this April we're dedicating a festival to them at the=0D=0AUniversity of Music and Theatre, a festival that focuses entirely on=0D=0Athem. Come along and discover your new favorite pieces!=0D=0A=0D=0AMore information and program details can be found at:=0D=0Ahttp://hfmt.art/feminale=0D=0A=0D=0AThe concert is free, but registration via eventbrite is required.=0D=0A
URL;VALUE=URI:https://hamburgwhl.infomaxnet.de/standard_widget_en/en/e-luises-schatztruhe?eventDateId=30086994&widgetToken=22vcqFKw4GE.&
CLASS:PUBLIC
DTSTART:20260425T110000
DTSTAMP:20260424T095123
END:VEVENT
END:VCALENDAR