BEGIN:VCALENDAR
VERSION:2.0
PRODID:http://www.infomax-online.de/imxeventmanager/
METHOD:PUBLISH
BEGIN:VTIMEZONE
TZID:Europe/Berlin
TZURL:http://tzurl.org/zoneinfo-outlook/Europe/Berlin
X-LIC-LOCATION:Europe/Berlin
END:VTIMEZONE
BEGIN:VEVENT
UID:69ed909a44562
LOCATION:Auf der Festung 3, 19303 Dömitz
SUMMARY;ENCODING=QUOTED-PRINTABLE:Ladies Night - all or nothing
DESCRIPTION;ENCODING=QUOTED-PRINTABLE:Don't miss THE cult comedy of the summer! =0D=0A=0D=0AThe story revolves around unemployed men who find themselves in a=0D=0Afinancial and personal dead end. Inspired by the success of a stripper=0D=0Agroup ("Chippendales"), they decide to put on a strip show themselves=0D=0Ato earn some quick cash. Will it work?=0D=0A=0D=0AAdvance ticket sales at www.reservix.de=0D=0A
URL;VALUE=URI:https://hamburgwhl.infomaxnet.de/standard_widget_en/en/e-ladies-night-all-or-nothing?eventDateId=30077368&widgetToken=22vcqFKw4GE.&
CLASS:PUBLIC
DTSTART:20260502T190000
DTSTAMP:20260426T061210
END:VEVENT
END:VCALENDAR