BEGIN:VCALENDAR
VERSION:2.0
PRODID:http://www.infomax-online.de/imxeventmanager/
METHOD:PUBLISH
BEGIN:VTIMEZONE
TZID:Europe/Berlin
TZURL:http://tzurl.org/zoneinfo-outlook/Europe/Berlin
X-LIC-LOCATION:Europe/Berlin
END:VTIMEZONE
BEGIN:VEVENT
UID:69e8cfef213ee
LOCATION:Am Markt 14, 19055 Schwerin
SUMMARY;ENCODING=QUOTED-PRINTABLE:Reading with Grit Poppe in Schwerin
DESCRIPTION;ENCODING=QUOTED-PRINTABLE:Grit Poppe will be reading from the book "Verschleppt, verbannt,=0D=0Averschwunden - Deutsche Kriegsjugend in Stalins Lagern und=0D=0AGefängnissen", written with Niklas Poppe, in the Demmlersaal of the=0D=0Atown hall. The topic is the fate of German youths in Soviet camps=0D=0Aafter 1945. Admission free, discussion afterwards.=0D=0A=0D=0AReading and discussion with the author Grit Poppe=0D=0A"Deported, banished, disappeared - German war youth in Stalin's camps=0D=0Aand prisons"=0D=0A=0D=0AThe Bündnis 90/Die Grünen/Die PARTEI parliamentary group in the=0D=0ASchwerin city council invites you to a reading followed by a=0D=0Adiscussion in the Demmler Hall of Schwerin Town Hall. Admission is=0D=0Afree.=0D=0A=0D=0AThe author Grit Poppe will present her non-fiction book "Verschleppt,=0D=0Averbannt, verschwunden - Deutsche Kriegsjugend in Stalins Lagern und=0D=0AGefängnissen", which she wrote together with Niklas Poppe. The book=0D=0Ais dedicated to a chapter of German post-war history that has long=0D=0Areceived little attention: the fate of German youths and young adults=0D=0Awho were arrested by Soviet authorities after the end of the Second=0D=0AWorld War and deported to camps or prisons.=0D=0A=0D=0ABased on eyewitness accounts, documents and historical research, the=0D=0Aauthors trace moving life stories and at the same time take a=0D=0Adifferentiated look at the political and historical background to=0D=0Athese repressions. The book makes it clear how deeply these=0D=0Aexperiences shaped the lives of those affected and why their stories=0D=0Ashould still be heard today.=0D=0A=0D=0AGrit Poppe is an award-winning author whose literary and documentary=0D=0Aworks often deal with contemporary German history and in particular=0D=0Awith experiences in the GDR. Together with Niklas Poppe, historian and=0D=0Aauthor, she combines journalistic research with narrative proximity to=0D=0Acontemporary witnesses.=0D=0A=0D=0AFollowing the reading, there will be an opportunity to talk to the=0D=0Aauthor and exchange ideas.=0D=0A
URL;VALUE=URI:https://hamburgwhl.infomaxnet.de/standard_widget_en/en/e-reading-with-grit-poppe-in-schwerin?eventDateId=30077349&widgetToken=22vcqFKw4GE.&
CLASS:PUBLIC
DTSTART:20260424T180000
DTSTAMP:20260422T154103
END:VEVENT
END:VCALENDAR