BEGIN:VCALENDAR
VERSION:2.0
PRODID:http://www.infomax-online.de/imxeventmanager/
METHOD:PUBLISH
BEGIN:VTIMEZONE
TZID:Europe/Berlin
TZURL:http://tzurl.org/zoneinfo-outlook/Europe/Berlin
X-LIC-LOCATION:Europe/Berlin
END:VTIMEZONE
BEGIN:VEVENT
UID:69eb71e44e2b5
LOCATION:Steiluferallee 1-4, 23669 Timmendorfer Strand
SUMMARY;ENCODING=QUOTED-PRINTABLE:"Steine für Kids"
DESCRIPTION;ENCODING=QUOTED-PRINTABLE:null=0D=0A
URL;VALUE=URI:https://hamburgwhl.infomaxnet.de/standard_widget_en/en/e-steine-fuer-kids-1?eventDateId=30072025&widgetToken=22vcqFKw4GE.&
CLASS:PUBLIC
DTSTART:20260425T120000
DTSTAMP:20260424T153636
END:VEVENT
END:VCALENDAR