BEGIN:VCALENDAR
VERSION:2.0
PRODID:http://www.infomax-online.de/imxeventmanager/
METHOD:PUBLISH
BEGIN:VTIMEZONE
TZID:Europe/Berlin
TZURL:http://tzurl.org/zoneinfo-outlook/Europe/Berlin
X-LIC-LOCATION:Europe/Berlin
END:VTIMEZONE
BEGIN:VEVENT
UID:69e603fcecc7c
LOCATION:Klöresgang 3, 19053 Schwerin
SUMMARY;ENCODING=QUOTED-PRINTABLE:Writing workshop
DESCRIPTION;ENCODING=QUOTED-PRINTABLE:with Silke Hansen=0D=0A=0D=0ABased on personal (writing) experiences, new writing impulses are=0D=0Agiven and encouraged to use creative language elements and fresh=0D=0Aforms.=0D=0A=0D=0AGet out of your writing routine and into an enthusiastic and inspiring=0D=0Apassion for writing.=0D=0A=0D=0AWriting makes you happy! Writing is done in an appreciative atmosphere=0D=0Awith the pleasure and fun of experimenting with pen on paper or=0D=0Atablet.=0D=0A=0D=0AAn initiative of the Friends of the City Library e.V.=0D=0A
URL;VALUE=URI:https://hamburgwhl.infomaxnet.de/standard_widget_en/en/e-writing-workshop-7?eventDateId=30067055&widgetToken=22vcqFKw4GE.&
CLASS:PUBLIC
DTSTART:20260423T160000
DTSTAMP:20260420T124620
END:VEVENT
END:VCALENDAR