BEGIN:VCALENDAR
VERSION:2.0
PRODID:http://www.infomax-online.de/imxeventmanager/
METHOD:PUBLISH
BEGIN:VTIMEZONE
TZID:Europe/Berlin
TZURL:http://tzurl.org/zoneinfo-outlook/Europe/Berlin
X-LIC-LOCATION:Europe/Berlin
END:VTIMEZONE
BEGIN:VEVENT
UID:69e7fa04b6435
LOCATION:Johannes-Brahms-Platz , 20355 Hamburg
SUMMARY;ENCODING=QUOTED-PRINTABLE:Ensemble der Neuen Philharmonie Hamburg / Armine Nersisjan / Hendrik=0D=0ALücke
DESCRIPTION;ENCODING=QUOTED-PRINTABLE:The Neue Philharmonie Hamburg ensemble, together with the outstanding=0D=0Asingers Hendrik Lücke and Armine Nersisyan, presents an evening full=0D=0Aof musical highlights. The audience can look forward to the most=0D=0Abeautiful arias, duets, and orchestral interludes from the Italian and=0D=0AGerman opera tradition—characterized by the elegance and=0D=0Aexpressiveness of bel canto. Radiant voices, passionate melodies, and=0D=0Apowerful emotions transport listeners into the fascinating world of=0D=0Aopera. An unforgettable concert evening – a must for opera lovers=0D=0Aand anyone who wants to celebrate the beauty of the human voice.=0D=0A=0D=0APERFORMERS=0D=0A=0D=0AENSEMBLE DER NEUEN PHILHARMONIE HAMBURG ensemble=0D=0A=0D=0AARMINE NERSISJAN soprano=0D=0A=0D=0AHENDRIK LÜCKE tenor=0D=0A=0D=0APROGRAM=0D=0A=0D=0AThe most beautiful arias, duets, and orchestral interludes from=0D=0AItalian and German operas=0D=0A=0D=0A =0D=0A
URL;VALUE=URI:https://hamburgwhl.infomaxnet.de/standard_widget_en/en/e-ensemble-der-neuen-philharmonie-hamburg-armine-nersisjan-hendrik-luecke-1?eventDateId=30065194&widgetToken=22vcqFKw4GE.&
CLASS:PUBLIC
DTSTART:20260425T200000
DTSTAMP:20260422T002820
END:VEVENT
END:VCALENDAR