BEGIN:VCALENDAR
VERSION:2.0
PRODID:http://www.infomax-online.de/imxeventmanager/
METHOD:PUBLISH
BEGIN:VTIMEZONE
TZID:Europe/Berlin
TZURL:http://tzurl.org/zoneinfo-outlook/Europe/Berlin
X-LIC-LOCATION:Europe/Berlin
END:VTIMEZONE
BEGIN:VEVENT
UID:69ea0e1755035
LOCATION:Wendenhof 02, 19055 Schwerin
SUMMARY;ENCODING=QUOTED-PRINTABLE:Herbal day especially for women
DESCRIPTION;ENCODING=QUOTED-PRINTABLE:Discover how the plant world can support women in a natural way. In a=0D=0Awonderful setting, we delve deep into the ancient knowledge of women's=0D=0Aherbs to gain new experiences and experience the healing power of=0D=0Anature with all our senses. An all-round feel-good day especially for=0D=0Awomen.=0D=0A=0D=0AThis day invites you to delve deeper into the traditional healing=0D=0Aknowledge of women's herbs and treat yourself to a soothing time-out.=0D=0AIn a small group, we create a space for exchange, inspiration and=0D=0Acloseness to nature.=0D=0AWith a herbal walk, workshop and simple recipes, you will get to know=0D=0Aplants that strengthen body, mind and soul - for more balance,=0D=0Awell-being and natural support in the various phases of a woman's=0D=0Alife.=0D=0A=0D=0AIn a mindful and appreciative atmosphere, you will learn how the=0D=0Aeffects of plants can be used in a targeted way - whether for=0D=0Arelaxation, strengthening or hormonal balance.=0D=0A=0D=0AWe start the day with a warm welcome and an introduction to our time=0D=0Atogether in nature.=0D=0AGuided wild herb walk - discovering women's herbs=0D=0AOn an extended walk through meadows and forest edges, we encounter=0D=0Aplants that are traditionally used to support the female body -=0D=0Aincluding mugwort, yarrow and clover. You will learn how to recognize=0D=0Athem and what significance they have in herbal medicine. Inspiring=0D=0Astories will stimulate your imagination and connect you not only with=0D=0Anature, but also with the knowledge of times gone by.=0D=0A=0D=0ALunch break together in the countryside=0D=0A=0D=0AIn the afternoon, we will prepare various herbal blends that are=0D=0Aspecially tailored to the needs of women, e.g. tinctures, a soothing=0D=0Amassage oil, Oxymel, a tea blend for the menstrual cycle and menopause=0D=0Aand much more.=0D=0AYou can take these products home with you - in-depth knowledge on how=0D=0Ato use them and a detailed handout with all the recipes and impulses.=0D=0A
URL;VALUE=URI:https://hamburgwhl.infomaxnet.de/standard_widget_en/en/e-herbal-day-especially-for-women?eventDateId=30054621&widgetToken=22vcqFKw4GE.&
CLASS:PUBLIC
DTSTART:20260419T100000
DTSTAMP:20260423T141831
END:VEVENT
END:VCALENDAR