BEGIN:VCALENDAR
VERSION:2.0
PRODID:http://www.infomax-online.de/imxeventmanager/
METHOD:PUBLISH
BEGIN:VTIMEZONE
TZID:Europe/Berlin
TZURL:http://tzurl.org/zoneinfo-outlook/Europe/Berlin
X-LIC-LOCATION:Europe/Berlin
END:VTIMEZONE
BEGIN:VEVENT
UID:69eca2c6c6ee9
LOCATION:Moorfuhrtweg 9, 22301 Hamburg
SUMMARY;ENCODING=QUOTED-PRINTABLE:Early Birds & Friends - Afternoon Jazz for Families
DESCRIPTION;ENCODING=QUOTED-PRINTABLE:Four junior big bands, a host of enthusiastic young jazz musicians,=0D=0Aand a vibrant big band sound – that's the mix for this afternoon=0D=0Aconcert. Big Band Port Hamburg brings together talented young=0D=0Amusicians aged 10 to 15 for a joint performance. Alongside the "Early=0D=0ABirds," three jazz ensembles from Hamburg schools will present their=0D=0Aown unique programs. Let's groove together!=0D=0A=0D=0AThe event showcases the musical breadth of the young, modern big band=0D=0Asound, creating a special space for the expressiveness of the young=0D=0Amusicians. The focus is not on competition, but on collaborative=0D=0Acreation.=0D=0A=0D=0AThe following are included:=0D=0A=0D=0A• Early Birds (Big Band Port Hamburg), conductor Paul Muntean=0D=0A=0D=0A• Junior Big Band (Wilhelm-Gymnasium Harvestehude), directed by=0D=0AStefan Alberti & Juliane Willius=0D=0A=0D=0A• Wind band (Bondenwald Niendorf Gymnasium), directed by Mathis=0D=0AWieck=0D=0A=0D=0A• Red Band (Gymnasium Rotherbaum), leader Lars Lessing=0D=0A
URL;VALUE=URI:https://hamburgwhl.infomaxnet.de/standard_widget_en/en/e-early-birds-friends-afternoon-jazz-for-families?eventDateId=30054518&widgetToken=22vcqFKw4GE.&
CLASS:PUBLIC
DTSTART:20260425T160000
DTSTAMP:20260425T131726
END:VEVENT
END:VCALENDAR