BEGIN:VCALENDAR
VERSION:2.0
PRODID:http://www.infomax-online.de/imxeventmanager/
METHOD:PUBLISH
BEGIN:VTIMEZONE
TZID:Europe/Berlin
TZURL:http://tzurl.org/zoneinfo-outlook/Europe/Berlin
X-LIC-LOCATION:Europe/Berlin
END:VTIMEZONE
BEGIN:VEVENT
UID:69e609ff1773b
LOCATION:Milchstraße 12, 20148 Hamburg
SUMMARY;ENCODING=QUOTED-PRINTABLE:Grenzenlose Musik – Bujazzo und BJO im Dialog
DESCRIPTION;ENCODING=QUOTED-PRINTABLE:Einlass: 18:30 | Beginn: 19:30 |=0D=0A=0D=0A =0D=0A=0D=0AWenn Bundesjugendorchester (BJO) und Bundesjazzorchester (Bujazzo)=0D=0Aaufeinandertreffen, entsteht Außerordentliches. Man darf gespannt=0D=0Asein auf dieses Gesprächskonzert mit jungen Musiker:innen der beiden=0D=0AAuswahlorchester. Ein Quartett des BJO und ein Quintett des Bujazzo=0D=0Apräsentieren sich zunächst eigenständig, bevor sie musikalisch=0D=0Azusammenfinden und Jazz und Klassik auf Augenhöhe präsentieren. Im=0D=0Amoderierten Gespräch geben die neun Musiker:innen gemeinsam mit dem=0D=0Ainternational renommierten Dirigenten Jonathan Stockhammer, dem=0D=0AJazzpianisten und Komponisten Sebastian Sternal und dem Komponisten,=0D=0AFagottisten und Saxophonisten Libor Šíma Einblicke in das aktuelle=0D=0ACrossover-Projekt „Grenzenlose Musik“ des Deutschen Musikrats. Sie=0D=0Anehmen das Publikum mit hinter die Kulissen der Probenarbeit,=0D=0Amusikalischen Herausforderungen und gemeinsamen künstlerischen=0D=0AArbeit. Auch die von der Prof. Dr. Ernst Langner Stiftung ermöglichte=0D=0AAuftragskomposition von Libor Šíma wird künstlerisch vorgestellt.=0D=0AAn diesem besonderen Abend wird der kreative Dialog zwischen Jazz und=0D=0AKlassik unmittelbar erlebbar und eröffnet neue künstlerische=0D=0APerspektiven. Eine Veranstaltung der Prof. Dr. Ernst Langner Stiftung=0D=0Ain Kooperation mit dem Deutschen Musikrat.=0D=0A=0D=0A___________________________________=0D=0A=0D=0AEintritt und Vorverkauf: Siehe Ticketlink. Abendkasse: Gibt es, sofern=0D=0Anicht vorab ausverkauft.=0D=0A=0D=0ATickets: https://jazzhall.hfmt-hamburg.de/tickets/?eid=189393=0D=0A=0D=0ADer Einlass zur JazzHall erfolgt über den Haupteingang der Hochschule=0D=0Afür Musik und Theater in der Milchstraße 12 - nicht über den=0D=0AHarvestehuder Weg.=0D=0A=0D=0AVeranstalter des Abends (bei Fragen zu Tickets oder Programm bitte=0D=0Adirekt kontaktieren): JazzHall (kontakt@jazzhall.de)=0D=0A
URL;VALUE=URI:https://hamburgwhl.infomaxnet.de/standard_widget_en/en/e-grenzenlose-musik-bujazzo-und-bjo-im-dialog?eventDateId=30046033&widgetToken=22vcqFKw4GE.&
CLASS:PUBLIC
DTSTART:20260420T183000
DTSTAMP:20260420T131159
END:VEVENT
END:VCALENDAR