BEGIN:VCALENDAR
VERSION:2.0
PRODID:http://www.infomax-online.de/imxeventmanager/
METHOD:PUBLISH
BEGIN:VTIMEZONE
TZID:Europe/Berlin
TZURL:http://tzurl.org/zoneinfo-outlook/Europe/Berlin
X-LIC-LOCATION:Europe/Berlin
END:VTIMEZONE
BEGIN:VEVENT
UID:69eb5c790273d
LOCATION:Jarrestraße 20, 22303 Hamburg
SUMMARY;ENCODING=QUOTED-PRINTABLE:EXPERIENCED DANCE HISTORY
DESCRIPTION;ENCODING=QUOTED-PRINTABLE:This workshop provides insights into dance styles of the 20th and 21st=0D=0Acenturies: from ballet to expressive dance, modern dance, post-modern=0D=0Adance and dance theatre  through to contemporary dance. Typical=0D=0Amovement vocabulary of the styles can be experienced physically and we=0D=0Atry out the different principles and rhythms. Whether soft, falling=0D=0Amovements or powerful moves – each dance has its own individual=0D=0Aexpression and wants to tell different stories. The result is an=0D=0Aoverview of the individual basic steps as well as improvisation=0D=0Aapproaches and the theoretical knowledge behind them. By immersing=0D=0Aoneself in this diversity, the individual spectrum of movement and=0D=0Aaesthetic expression expands, practice and theory combine to form a=0D=0Ajourney through dance history.=0D=0A=0D=0AOffen to all interested parties | No prior knowledge required =0D=0A=0D=0AREGISTRATION IS ONLY POSSIBLE VIA THE VHS HAMBURG.=0D=0A=0D=0AWWW.VHS-HAMBURG.DE=0D=0A[https://www.vhs-hamburg.de/kurs/erlebte-tanzgeschichte/397550]=0D=0A=0D=0AThe course is fully booked, but the VHS has a waiting list.=0D=0A
URL;VALUE=URI:https://hamburgwhl.infomaxnet.de/standard_widget_en/en/e-experienced-dance-history?eventDateId=30042662&widgetToken=22vcqFKw4GE.&
CLASS:PUBLIC
DTSTART:20260425T100000
DTSTAMP:20260424T140513
END:VEVENT
END:VCALENDAR