BEGIN:VCALENDAR
VERSION:2.0
PRODID:http://www.infomax-online.de/imxeventmanager/
METHOD:PUBLISH
BEGIN:VTIMEZONE
TZID:Europe/Berlin
TZURL:http://tzurl.org/zoneinfo-outlook/Europe/Berlin
X-LIC-LOCATION:Europe/Berlin
END:VTIMEZONE
BEGIN:VEVENT
UID:69ea0c8b7beec
LOCATION:Kleine Theaterstraße 1, 20354 Hamburg
SUMMARY;ENCODING=QUOTED-PRINTABLE:Stockhausen for children: Michael's journey
DESCRIPTION;ENCODING=QUOTED-PRINTABLE:Stockhausen for children: Michael's journey=0D=0A
URL;VALUE=URI:https://hamburgwhl.infomaxnet.de/standard_widget_en/en/e-stockhausen-for-children-michaels-journey?eventDateId=30039973&widgetToken=22vcqFKw4GE.&
CLASS:PUBLIC
DTSTART:20260422T110000
DTSTAMP:20260423T141155
END:VEVENT
END:VCALENDAR