BEGIN:VCALENDAR
VERSION:2.0
PRODID:http://www.infomax-online.de/imxeventmanager/
METHOD:PUBLISH
BEGIN:VTIMEZONE
TZID:Europe/Berlin
TZURL:http://tzurl.org/zoneinfo-outlook/Europe/Berlin
X-LIC-LOCATION:Europe/Berlin
END:VTIMEZONE
BEGIN:VEVENT
UID:69e75c577ed9c
LOCATION:Hamburger Allee 124, 19063 Schwerin
SUMMARY;ENCODING=QUOTED-PRINTABLE:Bake rolls
DESCRIPTION;ENCODING=QUOTED-PRINTABLE:Fresh, home-baked rolls not only taste delicious, they are also quick=0D=0Aand easy to make.=0D=0A=0D=0ADelicious recipes for many occasions=0D=0A=0D=0AFresh, home-baked bread rolls not only taste delicious, they are also=0D=0Aquick and easy to make. In this course, you will learn how to use=0D=0Adifferent types of grain - such as spelt, emmer or einkorn - to bake=0D=0Atasty, varied and healthy bread rolls.=0D=0A=0D=0AYou will learn the basics of making bread rolls with freshly ground=0D=0Awholemeal flour, prepare different doughs and taste the results. There=0D=0Awill also be time to prepare savory and sweet vegetarian spreads.=0D=0A
URL;VALUE=URI:https://hamburgwhl.infomaxnet.de/standard_widget_en/en/e-bake-rolls?eventDateId=30025844&widgetToken=22vcqFKw4GE.&
CLASS:PUBLIC
DTSTART:20260421T170000
DTSTAMP:20260421T131535
END:VEVENT
END:VCALENDAR