BEGIN:VCALENDAR
VERSION:2.0
PRODID:http://www.infomax-online.de/imxeventmanager/
METHOD:PUBLISH
BEGIN:VTIMEZONE
TZID:Europe/Berlin
TZURL:http://tzurl.org/zoneinfo-outlook/Europe/Berlin
X-LIC-LOCATION:Europe/Berlin
END:VTIMEZONE
BEGIN:VEVENT
UID:69e8ba62e7e83
LOCATION:Burgplatz , 19395 Plau am See
SUMMARY;ENCODING=QUOTED-PRINTABLE:Cycling on Lake Plau
DESCRIPTION;ENCODING=QUOTED-PRINTABLE:Spring is just around the corner, and we would like to welcome it=0D=0Atogether with you on a bike ride around Lake Plau! =0D=0A=0D=0AOn April 24, 2026, we cordially invite cycling enthusiasts to the=0D=0Atraditional opening of the season. The guided cycle tour starts at=0D=0A10.00 am at Burgplatz in Plau am See.=0D=0A=0D=0AYou can look forward to a varied tour with a length of around 20=0D=0Akilometers, which will take you through the charming landscape around=0D=0Athe lake. The route runs towards Karow and Zarchlin, among other=0D=0Aplaces, and offers wonderful views of nature and water. The tour takes=0D=0Aaround 3 to 4 hours and is ideal for leisure cyclists.=0D=0A=0D=0AThere are short stops along the way, during which nature park guide=0D=0AAndreas Breuer provides exciting insights into the local flora and=0D=0Afauna. Learn interesting facts about the special features of the=0D=0Aregion and discover hidden natural treasures along the way. In=0D=0Aaddition to exercise and fresh air, the focus is on the shared=0D=0Aexperience.=0D=0AWhether alone, with friends or family - the Anradeln is the perfect=0D=0Astart to the new cycling season. We look forward to many enthusiastic=0D=0Aparticipants and an active start to spring!=0D=0ARegistration under Tel. 0171 8095261=0D=0A
URL;VALUE=URI:https://hamburgwhl.infomaxnet.de/standard_widget_en/en/e-cycling-on-lake-plau?eventDateId=30022555&widgetToken=22vcqFKw4GE.&
CLASS:PUBLIC
DTSTART:20260424T100000
DTSTAMP:20260422T140906
END:VEVENT
END:VCALENDAR