BEGIN:VCALENDAR
VERSION:2.0
PRODID:http://www.infomax-online.de/imxeventmanager/
METHOD:PUBLISH
BEGIN:VTIMEZONE
TZID:Europe/Berlin
TZURL:http://tzurl.org/zoneinfo-outlook/Europe/Berlin
X-LIC-LOCATION:Europe/Berlin
END:VTIMEZONE
BEGIN:VEVENT
UID:69e75ec4a9fe0
LOCATION:Klöresgang 3, 19053 Schwerin
SUMMARY;ENCODING=QUOTED-PRINTABLE:Speak German together
DESCRIPTION;ENCODING=QUOTED-PRINTABLE:LanguageCafé=0D=0A=0D=0ALearn German in a relaxed atmosphere and meet new people at the same=0D=0Atime - this is possible at the City Library's SprachCafé.=0D=0A=0D=0AIn small discussion groups, participants talk about everyday topics,=0D=0Aimprove their language skills in a fun way and gain more confidence in=0D=0Aspeaking. The relaxed environment facilitates exchange and promotes=0D=0Alearning without pressure.=0D=0A=0D=0AAnyone who would like to improve their German language skills is=0D=0Ainvited - regardless of language level or origin.=0D=0A=0D=0A =0D=0A=0D=0AFurther information at: swurm@schwerin.de or phone 0385 5901922=0D=0A
URL;VALUE=URI:https://hamburgwhl.infomaxnet.de/standard_widget_en/en/e-speak-german-together-4?eventDateId=30022541&widgetToken=22vcqFKw4GE.&
CLASS:PUBLIC
DTSTART:20260421T160000
DTSTAMP:20260421T132556
END:VEVENT
END:VCALENDAR