BEGIN:VCALENDAR
VERSION:2.0
PRODID:http://www.infomax-online.de/imxeventmanager/
METHOD:PUBLISH
BEGIN:VTIMEZONE
TZID:Europe/Berlin
TZURL:http://tzurl.org/zoneinfo-outlook/Europe/Berlin
X-LIC-LOCATION:Europe/Berlin
END:VTIMEZONE
BEGIN:VEVENT
UID:69ec256d2de05
LOCATION:Mecklenburgstraße 63, 19053 Schwerin
SUMMARY;ENCODING=QUOTED-PRINTABLE:Painting with alcohol ink for adults
DESCRIPTION;ENCODING=QUOTED-PRINTABLE:Alcohol-Ink Workshop with Sandra Gockel from "Blütenzeichen". Immerse=0D=0Ayourself in the fascinating world of abstract art! Discover the magic=0D=0Aof this unique technique in my alcohol ink workshop and unleash your=0D=0Acreativity.=0D=0A=0D=0AClear your head.=0D=0AA little break from everyday life.=0D=0ATurn off the carousel of thoughts.=0D=0A=0D=0AAlcohol ink - abstract & intuitive art with ink. Just let the colors=0D=0Aflow freely. Try something new and discover the magic of color. During=0D=0Athe course, I will show you the technique and will be there for you=0D=0Athe whole time to answer questions and provide support. However, you=0D=0Aare completely free in the design. We paint on DIN A6 and DIN A5 Yupo=0D=0Apaper. Suitable for beginners, no previous knowledge required.=0D=0A=0D=0ANot suitable for pregnant women due to alcohol vapors. From the age of=0D=0A18.=0D=0A=0D=0AParticipation only with prior registration.=0D=0ADate: April 25, 2026 from 1.00 - 3.00 p.m.=0D=0AAt the junction, Mecklenburgstraße 63 in Schwerin=0D=0AFor only €39 per person incl. all materials=0D=0A=0D=0ARegister directly with Sandra: Instagram @bluetenzeichen, email=0D=0Abluetenzeichen@yahoo.com or in the store at www.bluetenzeichen.de=0D=0A
URL;VALUE=URI:https://hamburgwhl.infomaxnet.de/standard_widget_en/en/e-painting-with-alcohol-ink-for-adults-1?eventDateId=29958568&widgetToken=22vcqFKw4GE.&
CLASS:PUBLIC
DTSTART:20260425T130000
DTSTAMP:20260425T042237
END:VEVENT
END:VCALENDAR