BEGIN:VCALENDAR
VERSION:2.0
PRODID:http://www.infomax-online.de/imxeventmanager/
METHOD:PUBLISH
BEGIN:VTIMEZONE
TZID:Europe/Berlin
TZURL:http://tzurl.org/zoneinfo-outlook/Europe/Berlin
X-LIC-LOCATION:Europe/Berlin
END:VTIMEZONE
BEGIN:VEVENT
UID:69ed7b4dd7533
LOCATION:Am Park 5, 19230 Pritzier
SUMMARY;ENCODING=QUOTED-PRINTABLE:Flea market & classic car meeting
DESCRIPTION;ENCODING=QUOTED-PRINTABLE:Flea market and classic car meeting at Schwechow Estate. Stalls with=0D=0Aantiques, handicrafts and curiosities meet classic cars. Catering is=0D=0Aprovided and the historic estate offers an atmospheric setting for=0D=0Avisitors of all ages.=0D=0A=0D=0AFrom April to October, the flea market at Schwechow Estate offers a=0D=0Aspecial mix of trade, culture and automotive history. In the historic=0D=0Aatmosphere of the estate, dealers and private vendors present=0D=0Aantiques, handicrafts, collectibles and curiosities. Visitors will=0D=0Afind furniture, jewelry, books, vintage clothing and unique finds that=0D=0Awill inspire them away from the mainstream.=0D=0A=0D=0AAt the same time, the classic car meeting takes place on the extensive=0D=0Agrounds. Lovers of classic cars from East and West gather their=0D=0Avehicles, from well-kept vintage cars to rare modern classics. The=0D=0Acombination of historic cars and traditional flea market creates a=0D=0Aunique atmosphere that appeals to collectors as well as families and=0D=0Ahobby enthusiasts.=0D=0A=0D=0AA wide range of food and drink is on offer to cater for all tastes.=0D=0AThe historic manor house and the extensive outdoor areas invite=0D=0Avisitors to linger, so that a visit is not just shopping, but also an=0D=0Aexcursion into the culture and history of the rural area.=0D=0A=0D=0AThe Schwechow estate, with its picturesque location and listed=0D=0Aambience, offers the ideal setting for a day of discovery,=0D=0Aconversation and nostalgia. The flea market with integrated classic=0D=0Acar meeting combines tradition and timeless fascination and is aimed=0D=0Aat all those who enjoy special things, historic vehicles and a relaxed=0D=0Aweekend away from the hustle and bustle.=0D=0A
URL;VALUE=URI:https://hamburgwhl.infomaxnet.de/standard_widget_en/en/e-flea-market-classic-car-meeting-1?eventDateId=29958477&widgetToken=22vcqFKw4GE.&
CLASS:PUBLIC
DTSTART:20260426T090000
DTSTAMP:20260426T044117
END:VEVENT
END:VCALENDAR