BEGIN:VCALENDAR
VERSION:2.0
PRODID:http://www.infomax-online.de/imxeventmanager/
METHOD:PUBLISH
BEGIN:VTIMEZONE
TZID:Europe/Berlin
TZURL:http://tzurl.org/zoneinfo-outlook/Europe/Berlin
X-LIC-LOCATION:Europe/Berlin
END:VTIMEZONE
BEGIN:VEVENT
UID:69e5a8c3dca7c
LOCATION:An der Crivitzer Chaussee 1, 19061 Schwerin
SUMMARY;ENCODING=QUOTED-PRINTABLE:70 years of Schwerin Zoo
DESCRIPTION;ENCODING=QUOTED-PRINTABLE:Come to the zoo on 24.04. and celebrate 70 years of Schwerin Zoo with=0D=0Aus. Admission costs a symbolic 70 cents on this day.=0D=0A=0D=0A70 years ago, in 1956, Schwerin Zoo - then still a zoo - opened its=0D=0Adoors to visitors for the first time with just 17 animals. Today,=0D=0ASchwerin Zoo is home to more than 1500 animals and is one of the most=0D=0Aimportant educational and leisure facilities in the state, and we=0D=0Awould like to invite you to join us in taking a look at 70 years of=0D=0Azoo history and everything that is yet to come.=0D=0A=0D=0AWhat you can expect:=0D=0A=0D=0A	* colorful zoo program (feedings, commentaries, stage program, new=0D=0Ahistorical exhibition on the 30 zoo panels).=0D=0A	* Start of the stage program is at 16:00=0D=0A	* the zoo is open regularly from 9:00 a.m.=0D=0A=0D=0AAdmission costs a symbolic 70 cents. Annual pass holders pay nothing=0D=0Aextra.=0D=0A=0D=0AWe are looking forward to a wonderful "birthday" with you!=0D=0A=0D=0A =0D=0A
URL;VALUE=URI:https://hamburgwhl.infomaxnet.de/standard_widget_en/en/e-70-years-of-schwerin-zoo?eventDateId=29958470&widgetToken=22vcqFKw4GE.&
CLASS:PUBLIC
DTSTART:20260424T090000
DTSTAMP:20260420T061707
END:VEVENT
END:VCALENDAR