BEGIN:VCALENDAR
VERSION:2.0
PRODID:http://www.infomax-online.de/imxeventmanager/
METHOD:PUBLISH
BEGIN:VTIMEZONE
TZID:Europe/Berlin
TZURL:http://tzurl.org/zoneinfo-outlook/Europe/Berlin
X-LIC-LOCATION:Europe/Berlin
END:VTIMEZONE
BEGIN:VEVENT
UID:69ec9da083adf
LOCATION:Milchstraße 12, 20148 Hamburg
SUMMARY;ENCODING=QUOTED-PRINTABLE:Latin Session #9: Ivonne González
DESCRIPTION;ENCODING=QUOTED-PRINTABLE:Einlass: 18:30 | Beginn: 19:30 |=0D=0A=0D=0A =0D=0A=0D=0ADas Repertoire von Ivonne González reicht von traditioneller=0D=0Akubanischer und lateinamerikanischer Musik über afro-peruanische=0D=0AKlänge und Bossa Nova bis hin zu argentinischer Zamba. An diesem=0D=0AAbend präsentiert die kubanische Sängerin und Tänzerin mit warmer=0D=0AStimme und feiner jazziger Note ihre Interpretationen femininer=0D=0AChansons. Auf einer farbenprächtigen Reise von Mexiko über Kuba bis=0D=0Anach Chile macht Ivonne González das Publikum mit großen Damen=0D=0Alateinamerikanischer Musik bekannt oder zeigt diese von einer ganz=0D=0Aneuen Seite.=0D=0A=0D=0A_________________________=0D=0A=0D=0ALine-Up:=0D=0A=0D=0AIvonne González — Gesang =0D=0A=0D=0ACésar Correa — Klavier=0D=0A=0D=0AEduardo Dudu Penz — Bass=0D=0A=0D=0ARicardo Chicho Castillo — Schlagzeug=0D=0A=0D=0A___________________________________=0D=0A=0D=0AEintritt und Vorverkauf: Siehe Ticketlink. Abendkasse: Gibt es, sofern=0D=0Anicht vorab ausverkauft.=0D=0A=0D=0ATickets: https://jazzhall.hfmt-hamburg.de/tickets/?eid=184711=0D=0A=0D=0ADer Einlass zur JazzHall erfolgt über den Haupteingang der Hochschule=0D=0Afür Musik und Theater in der Milchstraße 12 - nicht über den=0D=0AHarvestehuder Weg.=0D=0A=0D=0AVeranstalter des Abends (bei Fragen zu Tickets oder Programm bitte=0D=0Adirekt kontaktieren): JazzHall (kontakt@jazzhall.de)=0D=0A
URL;VALUE=URI:https://hamburgwhl.infomaxnet.de/standard_widget_en/en/e-latin-session-9-ivonne-gonzalez?eventDateId=29935888&widgetToken=22vcqFKw4GE.&
CLASS:PUBLIC
DTSTART:20260425T183000
DTSTAMP:20260425T125528
END:VEVENT
END:VCALENDAR