BEGIN:VCALENDAR
VERSION:2.0
PRODID:http://www.infomax-online.de/imxeventmanager/
METHOD:PUBLISH
BEGIN:VTIMEZONE
TZID:Europe/Berlin
TZURL:http://tzurl.org/zoneinfo-outlook/Europe/Berlin
X-LIC-LOCATION:Europe/Berlin
END:VTIMEZONE
BEGIN:VEVENT
UID:69e5ee0bf3ed1
LOCATION:Im Thurow 14, 23948 Klütz
SUMMARY;ENCODING=QUOTED-PRINTABLE:Picture book cinema
DESCRIPTION;ENCODING=QUOTED-PRINTABLE:Listen - Marvel - Discover=0D=0A=0D=0AIt's movie time again for our little guests. Be there when reading=0D=0Aaloud becomes a whole new experience. You can listen to the stories=0D=0Aand follow the pictures on a big screen.=0D=0A
URL;VALUE=URI:https://hamburgwhl.infomaxnet.de/standard_widget_en/en/e-picture-book-cinema-10?eventDateId=29933501&widgetToken=22vcqFKw4GE.&
CLASS:PUBLIC
DTSTART:20260423T150000
DTSTAMP:20260420T111243
END:VEVENT
END:VCALENDAR