BEGIN:VCALENDAR
VERSION:2.0
PRODID:http://www.infomax-online.de/imxeventmanager/
METHOD:PUBLISH
BEGIN:VTIMEZONE
TZID:Europe/Berlin
TZURL:http://tzurl.org/zoneinfo-outlook/Europe/Berlin
X-LIC-LOCATION:Europe/Berlin
END:VTIMEZONE
BEGIN:VEVENT
UID:69e90e6618a31
LOCATION:Jarrestraße 20, 22303 Hamburg
SUMMARY;ENCODING=QUOTED-PRINTABLE:Ocean Stefan: Blood Show
DESCRIPTION;ENCODING=QUOTED-PRINTABLE:Ocean Stefan: Blood Show=0D=0A
URL;VALUE=URI:https://hamburgwhl.infomaxnet.de/standard_widget_en/en/e-ocean-hester-stefan-chillingworth-blood-show?eventDateId=29933480&widgetToken=22vcqFKw4GE.&
CLASS:PUBLIC
DTSTART:20260423T193000
DTSTAMP:20260422T200734
END:VEVENT
END:VCALENDAR