BEGIN:VCALENDAR
VERSION:2.0
PRODID:http://www.infomax-online.de/imxeventmanager/
METHOD:PUBLISH
BEGIN:VTIMEZONE
TZID:Europe/Berlin
TZURL:http://tzurl.org/zoneinfo-outlook/Europe/Berlin
X-LIC-LOCATION:Europe/Berlin
END:VTIMEZONE
BEGIN:VEVENT
UID:69e90e623feb0
LOCATION:Jarrestraße 20, 22303 Hamburg
SUMMARY;ENCODING=QUOTED-PRINTABLE:Emma Frankland: No Apologies
DESCRIPTION;ENCODING=QUOTED-PRINTABLE:Emma Frankland: No Apologies=0D=0A
URL;VALUE=URI:https://hamburgwhl.infomaxnet.de/standard_widget_en/en/e-emma-frankland-no-apologies?eventDateId=29933478&widgetToken=22vcqFKw4GE.&
CLASS:PUBLIC
DTSTART:20260423T204500
DTSTAMP:20260422T200730
END:VEVENT
END:VCALENDAR