BEGIN:VCALENDAR
VERSION:2.0
PRODID:http://www.infomax-online.de/imxeventmanager/
METHOD:PUBLISH
BEGIN:VTIMEZONE
TZID:Europe/Berlin
TZURL:http://tzurl.org/zoneinfo-outlook/Europe/Berlin
X-LIC-LOCATION:Europe/Berlin
END:VTIMEZONE
BEGIN:VEVENT
UID:69eb5ef54de68
LOCATION:Jarrestraße 20, 22303 Hamburg
SUMMARY;ENCODING=QUOTED-PRINTABLE:Cassils: Incontrovertible Being
DESCRIPTION;ENCODING=QUOTED-PRINTABLE:Cassils: Incontrovertible Being=0D=0A
URL;VALUE=URI:https://hamburgwhl.infomaxnet.de/standard_widget_en/en/e-cassils-incontrovertible-being?eventDateId=29927824&widgetToken=22vcqFKw4GE.&
CLASS:PUBLIC
DTSTART:20260425T203000
DTSTAMP:20260424T141549
END:VEVENT
END:VCALENDAR