BEGIN:VCALENDAR
VERSION:2.0
PRODID:http://www.infomax-online.de/imxeventmanager/
METHOD:PUBLISH
BEGIN:VTIMEZONE
TZID:Europe/Berlin
TZURL:http://tzurl.org/zoneinfo-outlook/Europe/Berlin
X-LIC-LOCATION:Europe/Berlin
END:VTIMEZONE
BEGIN:VEVENT
UID:69e93cba2a25a
LOCATION:Garnisonsstraße 7, 19288 Ludwigslust
SUMMARY;ENCODING=QUOTED-PRINTABLE:Analog workshop "Canva - Create social media content easily"
DESCRIPTION;ENCODING=QUOTED-PRINTABLE:Creating high-quality content for your own social media channels=0D=0Areliably and quickly can take a long time and be time-consuming.=0D=0A=0D=0ACanva - Create social media content easily=0D=0A=0D=0ADate: 23.04.2026=0D=0A=0D=0ATime: 09:30 am=0D=0A=0D=0ADuration: 2 hours=0D=0A=0D=0AVenue: Business development agency Südwestmecklenburg mbh, DeveLUP,=0D=0AGarnisonsstr. 7, 19288 Ludwigslust=0D=0A=0D=0AContent of the workshop:=0D=0A=0D=0AReliably and quickly creating high-quality content for your own social=0D=0Amedia channels can take a long time and be time-consuming.=0D=0A=0D=0AWith the online graphics tool Canva, this is no longer the case! Learn=0D=0Athe basics of the tool in this workshop and create your first design=0D=0Adirectly during the event.=0D=0A=0D=0A- Introduction to the "Canva" tool=0D=0A=0D=0A- User interface and brand documents=0D=0A=0D=0A- Useful board tools from Canva=0D=0A=0D=0A- Practice: Creation of an Instagram post and a story=0D=0A=0D=0APlease note that this event requires prior knowledge:=0D=0A=0D=0A- You should be confident using the internet=0D=0A=0D=0A- Ideally, you have already attended our "Social Media for Business"=0D=0Aworkshop=0D=0A=0D=0AAn internet-enabled laptop is mandatory for participation!=0D=0A=0D=0ARegistration:=0D=0Ahttps://www.invest-swm.de/weiterbildungen-workshops-veranstaltungen/workshop-canva-social-media-content-leicht-erstellen-1=0D=0A
URL;VALUE=URI:https://hamburgwhl.infomaxnet.de/standard_widget_en/en/e-analog-workshop-canva-create-social-media-content-easily?eventDateId=29910837&widgetToken=22vcqFKw4GE.&
CLASS:PUBLIC
DTSTART:20260423T093000
DTSTAMP:20260422T232514
END:VEVENT
END:VCALENDAR