BEGIN:VCALENDAR
VERSION:2.0
PRODID:http://www.infomax-online.de/imxeventmanager/
METHOD:PUBLISH
BEGIN:VTIMEZONE
TZID:Europe/Berlin
TZURL:http://tzurl.org/zoneinfo-outlook/Europe/Berlin
X-LIC-LOCATION:Europe/Berlin
END:VTIMEZONE
BEGIN:VEVENT
UID:69ecd4e6a68f4
LOCATION:Werderstraße 140, 19055 Schwerin
SUMMARY;ENCODING=QUOTED-PRINTABLE:FLOTTENPARADE
DESCRIPTION;ENCODING=QUOTED-PRINTABLE:Traditional departure of all top-flagged ships for the parade=0D=0A=0D=0AWhile enjoying coffee and cake, you can sail on Schwerin's inner and=0D=0AHeidensee lakes with all the ships flagged above the top. The=0D=0Atraditional fleet parade marks the official start of the season on the=0D=0Alast Saturday in April. During the 1.5-hour lake cruise, the ships=0D=0Aovertake each other and offer beautiful photo opportunities and a bit=0D=0Aof action on the lake!=0D=0A=0D=0ATravel time 1.5 hours each=0D=0A
URL;VALUE=URI:https://hamburgwhl.infomaxnet.de/standard_widget_en/en/e-flottenparade?eventDateId=29898560&widgetToken=22vcqFKw4GE.&
CLASS:PUBLIC
DTSTART:20260425T133000
DTSTAMP:20260425T165118
END:VEVENT
END:VCALENDAR