BEGIN:VCALENDAR
VERSION:2.0
PRODID:http://www.infomax-online.de/imxeventmanager/
METHOD:PUBLISH
BEGIN:VTIMEZONE
TZID:Europe/Berlin
TZURL:http://tzurl.org/zoneinfo-outlook/Europe/Berlin
X-LIC-LOCATION:Europe/Berlin
END:VTIMEZONE
BEGIN:VEVENT
UID:69e6037c7a4a8
LOCATION:Wismarsche Str. 87, 19053 Schwerin
SUMMARY;ENCODING=QUOTED-PRINTABLE:BLAUER VOGEL Art Night
DESCRIPTION;ENCODING=QUOTED-PRINTABLE:Painting, dancing, partying, snacks and drinks - it's a blast!=0D=0A=0D=0AUnder professional guidance, you can experience the adventure of art=0D=0Atogether on Saturday evening in a festive atmosphere, supported by a=0D=0Aparty atmosphere and music. The best moment is always now! Full of=0D=0Ajoie de vivre and curiosity about what may come, sharing and enjoying=0D=0Athe creative process. Every last Saturday of the month, a BLUE BIRD=0D=0AART NIGHT on different themes. Do you fancy an experiment? Take the=0D=0Aplunge! Let's create art together and enjoy it, as well as snacks and=0D=0Adrinks. You'll be amazed at what you can do!=0D=0A
URL;VALUE=URI:https://hamburgwhl.infomaxnet.de/standard_widget_en/en/e-blauer-vogel-art-night?eventDateId=29886405&widgetToken=22vcqFKw4GE.&
CLASS:PUBLIC
DTSTART:20260425T190000
DTSTAMP:20260420T124412
END:VEVENT
END:VCALENDAR