BEGIN:VCALENDAR
VERSION:2.0
PRODID:http://www.infomax-online.de/imxeventmanager/
METHOD:PUBLISH
BEGIN:VTIMEZONE
TZID:Europe/Berlin
TZURL:http://tzurl.org/zoneinfo-outlook/Europe/Berlin
X-LIC-LOCATION:Europe/Berlin
END:VTIMEZONE
BEGIN:VEVENT
UID:69e95fb38b9d0
LOCATION:Alsterdorfer Markt 4, 22297 Hamburg
SUMMARY;ENCODING=QUOTED-PRINTABLE:Rundgang auf dem Alsterdorfer Markt
DESCRIPTION;ENCODING=QUOTED-PRINTABLE:What exactly does the Alsterdorf Protestant Foundation do? What does=0D=0Athe Alsterdorf market look like – and what is its history? What is=0D=0Ait like to work in a workshop for people with disabilities?=0D=0A=0D=0AAnyone asking themselves these questions is warmly invited to=0D=0Aparticipate in one of our upcoming guided tours. On several dates in=0D=0AApril and May, we will show you important aspects of our work at the=0D=0AAlsterdorf Protestant Foundation.=0D=0A=0D=0AOn APRIL 22, 2026, the "Sport and Inclusion" section will lead a tour=0D=0Athrough the Alsterdorf Market – highlights of this tour include the=0D=0Amovement island and the inclusive Barakiel sports hall, which offers=0D=0Avarious sports activities for people with disabilities.=0D=0A=0D=0AOur guided tours are free of charge. Places are limited – therefore,=0D=0Awe kindly request that YOU REGISTER BY FRIDAY, APRIL 10, 2026 AT THE=0D=0ALATEST by contacting Ms. Matthies at meike.matthies@alsterdorf.de or=0D=0Aby phone at +49 40 5077 3491.=0D=0A=0D=0AWed., April 22, 2026=0D=0A=0D=0A3:00 PM – 4:30 PM=0D=0A=0D=0AAlsterdorf Market=0D=0A
URL;VALUE=URI:https://hamburgwhl.infomaxnet.de/standard_widget_en/en/e-rundgang-auf-dem-alsterdorfer-markt?eventDateId=29885811&widgetToken=22vcqFKw4GE.&
CLASS:PUBLIC
DTSTART:20260422T150000
DTSTAMP:20260423T015427
END:VEVENT
END:VCALENDAR