BEGIN:VCALENDAR
VERSION:2.0
PRODID:http://www.infomax-online.de/imxeventmanager/
METHOD:PUBLISH
BEGIN:VTIMEZONE
TZID:Europe/Berlin
TZURL:http://tzurl.org/zoneinfo-outlook/Europe/Berlin
X-LIC-LOCATION:Europe/Berlin
END:VTIMEZONE
BEGIN:VEVENT
UID:69e5bfb5e361d
LOCATION:Neue Straße 58, 21073 Hamburg
SUMMARY;ENCODING=QUOTED-PRINTABLE:Karaoke party at the Irish Pub in Hamburg-Harburg
DESCRIPTION;ENCODING=QUOTED-PRINTABLE:Experience the magic of Irish joie de vivre on our karaoke stage! Let=0D=0Ayourself be carried away by the enchanting sounds of the Emerald Isle=0D=0Aand immerse yourself in an unforgettable experience. Sing with passion=0D=0Aand dedication as you feel the freedom of music in the warm, welcoming=0D=0Aatmosphere of the Old Dubliners. Everyone is welcome here, whether=0D=0Ayou're a professional singer, an amateur, or a complete novice :-D We=0D=0Acelebrate the moment and every performance is met with frenetic=0D=0Aapplause. It's no coincidence that the Old Dubliners' motto is:=0D=0A“There are no strangers here, only friends you haven't met=0D=0Abefore!” Our hosts speak German and English.=0D=0A=0D=0AWith a cold pint in hand and a song on our lips, we celebrate together=0D=0Auntil the early hours of the morning. The stage is yours – discover=0D=0Athe endless selection of songs waiting to be brought to life by you!=0D=0ABe part of our musical journey and let's bring the atmosphere to a=0D=0Aboil with every note. We look forward to seeing you! So grab your=0D=0Afriends and acquaintances and whoever else you meet on the way to our=0D=0Avenue. Choose YOUR SONG from the song lists, hand in your slip of=0D=0Apaper, and you'll be on our stage performing like you've never=0D=0Aperformed before. Our song list is sure to have something for you and=0D=0Ayour friends. Whether it's rock, pop, NDW, schlager, the best of today=0D=0Aor yesterday – whatever you're in the mood for, we're sure to have=0D=0Ait.=0D=0A=0D=0ASong lists and further information about the karaoke team:=0D=0A=0D=0Ahttps://www.karaoke-hamburg.de=0D=0A
URL;VALUE=URI:https://hamburgwhl.infomaxnet.de/standard_widget_en/en/e-karaoke-party-at-the-irish-pub-in-hamburg-harburg?eventDateId=29879247&widgetToken=22vcqFKw4GE.&
CLASS:PUBLIC
DTSTART:20260423T190000
DTSTAMP:20260420T075501
END:VEVENT
END:VCALENDAR