BEGIN:VCALENDAR
VERSION:2.0
PRODID:http://www.infomax-online.de/imxeventmanager/
METHOD:PUBLISH
BEGIN:VTIMEZONE
TZID:Europe/Berlin
TZURL:http://tzurl.org/zoneinfo-outlook/Europe/Berlin
X-LIC-LOCATION:Europe/Berlin
END:VTIMEZONE
BEGIN:VEVENT
UID:69ed6df3e4b08
LOCATION:Sievekingdamm 3, 20535 Hamburg
SUMMARY;ENCODING=QUOTED-PRINTABLE:Darf ich mitspielen? (ab 6 Jahre)
DESCRIPTION;ENCODING=QUOTED-PRINTABLE:A study on friendship=0D=0A=0D=0AWe want them. We need them. We all like them: friends.=0D=0A=0D=0AStudies repeatedly show that loneliness is bad for us; it can even=0D=0Amake us ill. But why is it sometimes so complicated to find friends,=0D=0Aavoid arguments with them, or make up again? How do we know if someone=0D=0Ais our friend? And how many friends do we actually need? To find out,=0D=0Awe want to conduct a study on friendship. It begins with the question=0D=0Athat adults often advise children to ask, but rarely ask themselves:=0D=0ACan I play too?=0D=0A=0D=0AThe friendship research takes place in workshops in kindergartens and=0D=0Aschools, followed by a theater performance. While many other social=0D=0Arelationships have rituals and celebrations – like weddings or=0D=0Afamily gatherings – friendship is often overlooked. The theater=0D=0Aperformances are celebrations of friendship. We want to create=0D=0Adecorations, games, and music, and perhaps we'll even manage to forge=0D=0Athe longest friendship bond in the world! And who knows – maybe=0D=0Awe'll go home with some new friendships.=0D=0A=0D=0AWorkshops on request for preschool classes, primary school and lower=0D=0Asecondary school from February 2026=0D=0A=0D=0ABy Esther Pilkington with Brenda Alaís, Matthias Anton, Daniel=0D=0ALadnar, Kerstin Oppermann and many others.=0D=0A=0D=0AFunded by the Hamburg Authority for Culture and Media and the=0D=0APerforming Arts Fund with funds from the Federal Government=0D=0ACommissioner for Culture and Media.=0D=0A
URL;VALUE=URI:https://hamburgwhl.infomaxnet.de/standard_widget_en/en/e-darf-ich-mitspielen-ab-6-jahre?eventDateId=29869396&widgetToken=22vcqFKw4GE.&
CLASS:PUBLIC
DTSTART:20260426T160000
DTSTAMP:20260426T034419
END:VEVENT
END:VCALENDAR