BEGIN:VCALENDAR
VERSION:2.0
PRODID:http://www.infomax-online.de/imxeventmanager/
METHOD:PUBLISH
BEGIN:VTIMEZONE
TZID:Europe/Berlin
TZURL:http://tzurl.org/zoneinfo-outlook/Europe/Berlin
X-LIC-LOCATION:Europe/Berlin
END:VTIMEZONE
BEGIN:VEVENT
UID:69ed82cd6f5fd
LOCATION:Saseler Parkweg 3, 22393 Hamburg
SUMMARY;ENCODING=QUOTED-PRINTABLE:Moment mal! Kinderkonzert über das Vergehen und Bleiben mit dem=0D=0AMinguet Streichquartett
DESCRIPTION;ENCODING=QUOTED-PRINTABLE:"Wait a minute! – a children's concert about passing away and=0D=0Astaying put"=0D=0Awith the Minguet String Quartet.=0D=0A=0D=0AExperience concert for children aged 5 and up=0D=0AModeration: Music teacher Juliane Giese=0D=0A=0D=0A"Why does my birthday always go by so quickly?" Lino wonders. For=0D=0Aweeks, time drags on, and then when it finally arrives, the day is=0D=0Aover in a flash.=0D=0A=0D=0AIn this special children's concert, we accompany Lino on a musical=0D=0Ajourney through moments that come and go: the first snow, a birthday=0D=0Asong, the taste of his favorite food, or a sunset. Can a sound be held=0D=0Aonto? And why does time sometimes fly and sometimes drag?=0D=0AWith gentle sounds and vibrant music, we discover together: Some=0D=0Athings are only there for a short time – and that's precisely why=0D=0Athey are so special.=0D=0AA concert to listen to, feel and marvel at – for children and all=0D=0Awho want to learn to enjoy the moment.=0D=0A
URL;VALUE=URI:https://hamburgwhl.infomaxnet.de/standard_widget_en/en/e-moment-mal-kinderkonzert-ueber-das-vergehen-und-bleiben-mit-dem-minguet-streichquartett?eventDateId=29865480&widgetToken=22vcqFKw4GE.&
CLASS:PUBLIC
DTSTART:20260426T160000
DTSTAMP:20260426T051317
END:VEVENT
END:VCALENDAR