BEGIN:VCALENDAR
VERSION:2.0
PRODID:http://www.infomax-online.de/imxeventmanager/
METHOD:PUBLISH
BEGIN:VTIMEZONE
TZID:Europe/Berlin
TZURL:http://tzurl.org/zoneinfo-outlook/Europe/Berlin
X-LIC-LOCATION:Europe/Berlin
END:VTIMEZONE
BEGIN:VEVENT
UID:69e98ead7da66
LOCATION:Zum Festplatz 4, 23966 Wismar
SUMMARY;ENCODING=QUOTED-PRINTABLE:Hanseatic show Wismar
DESCRIPTION;ENCODING=QUOTED-PRINTABLE:Consumer fair=0D=0A=0D=0ACosmopolitan, lively, down-to-earth: The Hanseschau Wismar=0D=0AThey share a deep friendship: The Hanseatic City of Wismar and its=0D=0Aeponymous Hanseatic Show. It has been firmly rooted in the event=0D=0Acalendar here every year for 34 years - despite the capricious=0D=0Aweather, the pandemic and other adversities. As a sales show and=0D=0Aevent, it has shaped and accompanied the state of=0D=0AMecklenburg-Vorpommern like no other. Now she is slowly but surely=0D=0Aapproaching forty - and is reinventing herself in her prime!=0D=0A=0D=0AThe Hanseschau has already changed its face noticeably in the last few=0D=0Ayears: The expansion into the outdoor area with the Lifestyle &=0D=0AGood-Living themes and provided space for new themes. The=0D=0AHanseschau-Quarreé, a central open-air area with a stage and catering=0D=0Aoffers, also invites visitors to feast, sample and linger while=0D=0Amarveling at the six-hour rousing stage program. From here, the large=0D=0Ahalls are arranged like a fan. It's up to you: you decide which of the=0D=0Ahalls you want to discover. Experience and shop, discover and learn:=0D=0AThe Hanseschau makes it possible!=0D=0A=0D=0AProducts, services and information stands, trial and tasting=0D=0Aopportunities: The five halls await you with an experience for all the=0D=0Asenses! With topics such as social commitment, healthy and fit at any=0D=0Aage, modern building and living, lifestyle and household, tourism,=0D=0Atasting and enjoying or volunteering, the Hanseschau offers a wide=0D=0Arange of topics and information for your whole family.=0D=0A
URL;VALUE=URI:https://hamburgwhl.infomaxnet.de/standard_widget_en/en/e-hanseatic-show-wismar-4?eventDateId=29857425&widgetToken=22vcqFKw4GE.&
CLASS:PUBLIC
DTSTART:20260423T100000
DTSTAMP:20260423T051453
END:VEVENT
END:VCALENDAR